



BEGIN:VCALENDAR
VERSION:2.0
PRODID:-//BeMore - ECPv6.15.1//NONSGML v1.0//EN
CALSCALE:GREGORIAN
METHOD:PUBLISH
X-ORIGINAL-URL:https://lcrbemore.co.uk
X-WR-CALDESC:Events for BeMore
REFRESH-INTERVAL;VALUE=DURATION:PT1H
X-Robots-Tag:noindex
X-PUBLISHED-TTL:PT1H
BEGIN:VTIMEZONE
TZID:UTC
BEGIN:STANDARD
TZOFFSETFROM:+0000
TZOFFSETTO:+0000
TZNAME:UTC
DTSTART:20310101T000000
END:STANDARD
END:VTIMEZONE
BEGIN:VEVENT
DTSTART;TZID=UTC:20310416T103000
DTEND;TZID=UTC:20310416T103000
DTSTAMP:20260422T023312
CREATED:20221018T181702Z
LAST-MODIFIED:20221018T181703Z
UID:10021796-1934101800-1934101800@lcrbemore.co.uk
SUMMARY:DBS EXPERIENCE PROGRAMME
DESCRIPTION:
URL:https://lcrbemore.co.uk/events/dbs-experience-programme/2031-04-16/
LOCATION:Thrive\, 21-23 Preston Street\, Liverpool\, Liverpool\, L1 6DP\, United Kingdom
ATTACH;FMTTYPE=image/jpeg:https://lcrbemore.co.uk/wp-content/uploads/2022/10/Thrive.jpg
GEO:53.408947259526;-2.9849363644176
X-APPLE-STRUCTURED-LOCATION;VALUE=URI;X-ADDRESS=Thrive 21-23 Preston Street Liverpool Liverpool L1 6DP United Kingdom;X-APPLE-RADIUS=500;X-TITLE=21-23 Preston Street:geo:-2.9849363644176,53.408947259526
END:VEVENT
BEGIN:VEVENT
DTSTART;TZID=UTC:20310416T103000
DTEND;TZID=UTC:20310416T103000
DTSTAMP:20260422T023312
CREATED:20221018T181857Z
LAST-MODIFIED:20221018T181858Z
UID:10021793-1934101800-1934101800@lcrbemore.co.uk
SUMMARY:TRAINING WITH THE LEARNING FOUNDRY
DESCRIPTION:
URL:https://lcrbemore.co.uk/events/training-with-the-learning-foundry/2031-04-16/
LOCATION:Thrive\, 21-23 Preston Street\, Liverpool\, Liverpool\, L1 6DP\, United Kingdom
ATTACH;FMTTYPE=image/jpeg:https://lcrbemore.co.uk/wp-content/uploads/2022/10/Thrive.jpg
GEO:53.408947259526;-2.9849363644176
X-APPLE-STRUCTURED-LOCATION;VALUE=URI;X-ADDRESS=Thrive 21-23 Preston Street Liverpool Liverpool L1 6DP United Kingdom;X-APPLE-RADIUS=500;X-TITLE=21-23 Preston Street:geo:-2.9849363644176,53.408947259526
END:VEVENT
BEGIN:VEVENT
DTSTART;TZID=UTC:20310416T130000
DTEND;TZID=UTC:20310416T130000
DTSTAMP:20260422T023312
CREATED:20221018T181508Z
LAST-MODIFIED:20221018T181509Z
UID:10021794-1934110800-1934110800@lcrbemore.co.uk
SUMMARY:CV DROP IN
DESCRIPTION:
URL:https://lcrbemore.co.uk/events/cv-drop-in/2031-04-16/
LOCATION:Thrive\, 21-23 Preston Street\, Liverpool\, Liverpool\, L1 6DP\, United Kingdom
ATTACH;FMTTYPE=image/jpeg:https://lcrbemore.co.uk/wp-content/uploads/2022/10/Thrive.jpg
GEO:53.408947259526;-2.9849363644176
X-APPLE-STRUCTURED-LOCATION;VALUE=URI;X-ADDRESS=Thrive 21-23 Preston Street Liverpool Liverpool L1 6DP United Kingdom;X-APPLE-RADIUS=500;X-TITLE=21-23 Preston Street:geo:-2.9849363644176,53.408947259526
END:VEVENT
BEGIN:VEVENT
DTSTART;TZID=UTC:20310416T130000
DTEND;TZID=UTC:20310416T130000
DTSTAMP:20260422T023312
CREATED:20221018T182437Z
LAST-MODIFIED:20221018T182438Z
UID:10021795-1934110800-1934110800@lcrbemore.co.uk
SUMMARY:REGENDA HOUSING SUPPORT
DESCRIPTION:
URL:https://lcrbemore.co.uk/events/regenda-housing-support/2031-04-16/
LOCATION:Thrive\, 21-23 Preston Street\, Liverpool\, Liverpool\, L1 6DP\, United Kingdom
ATTACH;FMTTYPE=image/jpeg:https://lcrbemore.co.uk/wp-content/uploads/2022/10/Thrive.jpg
GEO:53.408947259526;-2.9849363644176
X-APPLE-STRUCTURED-LOCATION;VALUE=URI;X-ADDRESS=Thrive 21-23 Preston Street Liverpool Liverpool L1 6DP United Kingdom;X-APPLE-RADIUS=500;X-TITLE=21-23 Preston Street:geo:-2.9849363644176,53.408947259526
END:VEVENT
BEGIN:VEVENT
DTSTART;TZID=UTC:20310416T130000
DTEND;TZID=UTC:20310416T170000
DTSTAMP:20260422T023312
CREATED:20221018T172632Z
LAST-MODIFIED:20221018T180221Z
UID:10021798-1934110800-1934125200@lcrbemore.co.uk
SUMMARY:DROP IN SESSIONS
DESCRIPTION:DWP Work Coach available to support with Universal Credit claims.
URL:https://lcrbemore.co.uk/events/drop-in-sessions/2031-04-16/
LOCATION:Merseyside Youth Association\, 65-67 Hanover Street\, Liverpool\, Liverpool\, L1 3DY\, United Kingdom
ATTACH;FMTTYPE=image/png:https://lcrbemore.co.uk/wp-content/uploads/2022/10/stock-event.png
GEO:53.404306319392;-2.9825169067472
X-APPLE-STRUCTURED-LOCATION;VALUE=URI;X-ADDRESS=Merseyside Youth Association 65-67 Hanover Street Liverpool Liverpool L1 3DY United Kingdom;X-APPLE-RADIUS=500;X-TITLE=65-67 Hanover Street:geo:-2.9825169067472,53.404306319392
END:VEVENT
BEGIN:VEVENT
DTSTART;TZID=UTC:20310416T130000
DTEND;TZID=UTC:20310416T170000
DTSTAMP:20260422T023312
CREATED:20221018T175015Z
LAST-MODIFIED:20231218T144607Z
UID:10021799-1934110800-1934125200@lcrbemore.co.uk
SUMMARY:WEDNESDAY AFTERNOONS WITH THE HUB
DESCRIPTION:Personal skills development programme for a neurodiverse cohort of 15 young people. Activities include – CV building\, employer sessions\, woodland walk and much more!
URL:https://lcrbemore.co.uk/events/wednesday-afternoons-with-the-hub-2/2031-04-16/
LOCATION:Merseyside Youth Association\, 65-67 Hanover Street\, Liverpool\, Liverpool\, L1 3DY\, United Kingdom
ATTACH;FMTTYPE=image/jpeg:https://lcrbemore.co.uk/wp-content/uploads/2022/10/Merseyside-Youth-Association.jpg
GEO:53.404306319392;-2.9825169067472
X-APPLE-STRUCTURED-LOCATION;VALUE=URI;X-ADDRESS=Merseyside Youth Association 65-67 Hanover Street Liverpool Liverpool L1 3DY United Kingdom;X-APPLE-RADIUS=500;X-TITLE=65-67 Hanover Street:geo:-2.9825169067472,53.404306319392
END:VEVENT
BEGIN:VEVENT
DTSTART;TZID=UTC:20310417T103000
DTEND;TZID=UTC:20310417T103000
DTSTAMP:20260422T023312
CREATED:20221018T181702Z
LAST-MODIFIED:20221018T181703Z
UID:10021800-1934188200-1934188200@lcrbemore.co.uk
SUMMARY:DBS EXPERIENCE PROGRAMME
DESCRIPTION:
URL:https://lcrbemore.co.uk/events/dbs-experience-programme/2031-04-17/
LOCATION:Thrive\, 21-23 Preston Street\, Liverpool\, Liverpool\, L1 6DP\, United Kingdom
ATTACH;FMTTYPE=image/jpeg:https://lcrbemore.co.uk/wp-content/uploads/2022/10/Thrive.jpg
GEO:53.408947259526;-2.9849363644176
X-APPLE-STRUCTURED-LOCATION;VALUE=URI;X-ADDRESS=Thrive 21-23 Preston Street Liverpool Liverpool L1 6DP United Kingdom;X-APPLE-RADIUS=500;X-TITLE=21-23 Preston Street:geo:-2.9849363644176,53.408947259526
END:VEVENT
BEGIN:VEVENT
DTSTART;TZID=UTC:20310417T103000
DTEND;TZID=UTC:20310417T103000
DTSTAMP:20260422T023312
CREATED:20221018T181857Z
LAST-MODIFIED:20221018T181858Z
UID:10021801-1934188200-1934188200@lcrbemore.co.uk
SUMMARY:TRAINING WITH THE LEARNING FOUNDRY
DESCRIPTION:
URL:https://lcrbemore.co.uk/events/training-with-the-learning-foundry/2031-04-17/
LOCATION:Thrive\, 21-23 Preston Street\, Liverpool\, Liverpool\, L1 6DP\, United Kingdom
ATTACH;FMTTYPE=image/jpeg:https://lcrbemore.co.uk/wp-content/uploads/2022/10/Thrive.jpg
GEO:53.408947259526;-2.9849363644176
X-APPLE-STRUCTURED-LOCATION;VALUE=URI;X-ADDRESS=Thrive 21-23 Preston Street Liverpool Liverpool L1 6DP United Kingdom;X-APPLE-RADIUS=500;X-TITLE=21-23 Preston Street:geo:-2.9849363644176,53.408947259526
END:VEVENT
BEGIN:VEVENT
DTSTART;TZID=UTC:20310417T130000
DTEND;TZID=UTC:20310417T130000
DTSTAMP:20260422T023312
CREATED:20221018T181508Z
LAST-MODIFIED:20221018T181509Z
UID:10021802-1934197200-1934197200@lcrbemore.co.uk
SUMMARY:CV DROP IN
DESCRIPTION:
URL:https://lcrbemore.co.uk/events/cv-drop-in/2031-04-17/
LOCATION:Thrive\, 21-23 Preston Street\, Liverpool\, Liverpool\, L1 6DP\, United Kingdom
ATTACH;FMTTYPE=image/jpeg:https://lcrbemore.co.uk/wp-content/uploads/2022/10/Thrive.jpg
GEO:53.408947259526;-2.9849363644176
X-APPLE-STRUCTURED-LOCATION;VALUE=URI;X-ADDRESS=Thrive 21-23 Preston Street Liverpool Liverpool L1 6DP United Kingdom;X-APPLE-RADIUS=500;X-TITLE=21-23 Preston Street:geo:-2.9849363644176,53.408947259526
END:VEVENT
BEGIN:VEVENT
DTSTART;TZID=UTC:20310417T130000
DTEND;TZID=UTC:20310417T130000
DTSTAMP:20260422T023312
CREATED:20221018T182437Z
LAST-MODIFIED:20221018T182438Z
UID:10021803-1934197200-1934197200@lcrbemore.co.uk
SUMMARY:REGENDA HOUSING SUPPORT
DESCRIPTION:
URL:https://lcrbemore.co.uk/events/regenda-housing-support/2031-04-17/
LOCATION:Thrive\, 21-23 Preston Street\, Liverpool\, Liverpool\, L1 6DP\, United Kingdom
ATTACH;FMTTYPE=image/jpeg:https://lcrbemore.co.uk/wp-content/uploads/2022/10/Thrive.jpg
GEO:53.408947259526;-2.9849363644176
X-APPLE-STRUCTURED-LOCATION;VALUE=URI;X-ADDRESS=Thrive 21-23 Preston Street Liverpool Liverpool L1 6DP United Kingdom;X-APPLE-RADIUS=500;X-TITLE=21-23 Preston Street:geo:-2.9849363644176,53.408947259526
END:VEVENT
BEGIN:VEVENT
DTSTART;TZID=UTC:20310418T000000
DTEND;TZID=UTC:20310418T235959
DTSTAMP:20260422T023312
CREATED:20221018T172012Z
LAST-MODIFIED:20221018T180345Z
UID:10021808-1934236800-1934323199@lcrbemore.co.uk
SUMMARY:CV SUPPORT
DESCRIPTION:Seetec CV Advisor attending Hub
URL:https://lcrbemore.co.uk/events/cv-support/2031-04-18/
LOCATION:Merseyside Youth Association\, 65-67 Hanover Street\, Liverpool\, Liverpool\, L1 3DY\, United Kingdom
ATTACH;FMTTYPE=image/png:https://lcrbemore.co.uk/wp-content/uploads/2022/10/stock-event.png
GEO:53.404306319392;-2.9825169067472
X-APPLE-STRUCTURED-LOCATION;VALUE=URI;X-ADDRESS=Merseyside Youth Association 65-67 Hanover Street Liverpool Liverpool L1 3DY United Kingdom;X-APPLE-RADIUS=500;X-TITLE=65-67 Hanover Street:geo:-2.9825169067472,53.404306319392
END:VEVENT
BEGIN:VEVENT
DTSTART;TZID=UTC:20310418T090000
DTEND;TZID=UTC:20310418T163000
DTSTAMP:20260422T023312
CREATED:20240722T073752Z
LAST-MODIFIED:20240722T073753Z
UID:10021809-1934269200-1934296200@lcrbemore.co.uk
SUMMARY:SEETEC: IAG/CV CREATION
DESCRIPTION:Hourly appointments to help you create a stunning CV.
URL:https://lcrbemore.co.uk/events/seetec-iag-cv-creation/2031-04-18/
LOCATION:Merseyside Youth Association\, 65-67 Hanover Street\, Liverpool\, Liverpool\, L1 3DY\, United Kingdom
ATTACH;FMTTYPE=image/png:https://lcrbemore.co.uk/wp-content/uploads/2023/01/Screenshot-2023-01-17-at-11.32.34.png
GEO:53.404306319392;-2.9825169067472
X-APPLE-STRUCTURED-LOCATION;VALUE=URI;X-ADDRESS=Merseyside Youth Association 65-67 Hanover Street Liverpool Liverpool L1 3DY United Kingdom;X-APPLE-RADIUS=500;X-TITLE=65-67 Hanover Street:geo:-2.9825169067472,53.404306319392
END:VEVENT
BEGIN:VEVENT
DTSTART;TZID=UTC:20310418T103000
DTEND;TZID=UTC:20310418T103000
DTSTAMP:20260422T023312
CREATED:20221018T181702Z
LAST-MODIFIED:20221018T181703Z
UID:10021804-1934274600-1934274600@lcrbemore.co.uk
SUMMARY:DBS EXPERIENCE PROGRAMME
DESCRIPTION:
URL:https://lcrbemore.co.uk/events/dbs-experience-programme/2031-04-18/
LOCATION:Thrive\, 21-23 Preston Street\, Liverpool\, Liverpool\, L1 6DP\, United Kingdom
ATTACH;FMTTYPE=image/jpeg:https://lcrbemore.co.uk/wp-content/uploads/2022/10/Thrive.jpg
GEO:53.408947259526;-2.9849363644176
X-APPLE-STRUCTURED-LOCATION;VALUE=URI;X-ADDRESS=Thrive 21-23 Preston Street Liverpool Liverpool L1 6DP United Kingdom;X-APPLE-RADIUS=500;X-TITLE=21-23 Preston Street:geo:-2.9849363644176,53.408947259526
END:VEVENT
BEGIN:VEVENT
DTSTART;TZID=UTC:20310418T103000
DTEND;TZID=UTC:20310418T103000
DTSTAMP:20260422T023312
CREATED:20221018T181857Z
LAST-MODIFIED:20221018T181858Z
UID:10021805-1934274600-1934274600@lcrbemore.co.uk
SUMMARY:TRAINING WITH THE LEARNING FOUNDRY
DESCRIPTION:
URL:https://lcrbemore.co.uk/events/training-with-the-learning-foundry/2031-04-18/
LOCATION:Thrive\, 21-23 Preston Street\, Liverpool\, Liverpool\, L1 6DP\, United Kingdom
ATTACH;FMTTYPE=image/jpeg:https://lcrbemore.co.uk/wp-content/uploads/2022/10/Thrive.jpg
GEO:53.408947259526;-2.9849363644176
X-APPLE-STRUCTURED-LOCATION;VALUE=URI;X-ADDRESS=Thrive 21-23 Preston Street Liverpool Liverpool L1 6DP United Kingdom;X-APPLE-RADIUS=500;X-TITLE=21-23 Preston Street:geo:-2.9849363644176,53.408947259526
END:VEVENT
BEGIN:VEVENT
DTSTART;TZID=UTC:20310418T130000
DTEND;TZID=UTC:20310418T130000
DTSTAMP:20260422T023312
CREATED:20221018T181508Z
LAST-MODIFIED:20221018T181509Z
UID:10021806-1934283600-1934283600@lcrbemore.co.uk
SUMMARY:CV DROP IN
DESCRIPTION:
URL:https://lcrbemore.co.uk/events/cv-drop-in/2031-04-18/
LOCATION:Thrive\, 21-23 Preston Street\, Liverpool\, Liverpool\, L1 6DP\, United Kingdom
ATTACH;FMTTYPE=image/jpeg:https://lcrbemore.co.uk/wp-content/uploads/2022/10/Thrive.jpg
GEO:53.408947259526;-2.9849363644176
X-APPLE-STRUCTURED-LOCATION;VALUE=URI;X-ADDRESS=Thrive 21-23 Preston Street Liverpool Liverpool L1 6DP United Kingdom;X-APPLE-RADIUS=500;X-TITLE=21-23 Preston Street:geo:-2.9849363644176,53.408947259526
END:VEVENT
BEGIN:VEVENT
DTSTART;TZID=UTC:20310418T130000
DTEND;TZID=UTC:20310418T130000
DTSTAMP:20260422T023312
CREATED:20221018T182437Z
LAST-MODIFIED:20221018T182438Z
UID:10021807-1934283600-1934283600@lcrbemore.co.uk
SUMMARY:REGENDA HOUSING SUPPORT
DESCRIPTION:
URL:https://lcrbemore.co.uk/events/regenda-housing-support/2031-04-18/
LOCATION:Thrive\, 21-23 Preston Street\, Liverpool\, Liverpool\, L1 6DP\, United Kingdom
ATTACH;FMTTYPE=image/jpeg:https://lcrbemore.co.uk/wp-content/uploads/2022/10/Thrive.jpg
GEO:53.408947259526;-2.9849363644176
X-APPLE-STRUCTURED-LOCATION;VALUE=URI;X-ADDRESS=Thrive 21-23 Preston Street Liverpool Liverpool L1 6DP United Kingdom;X-APPLE-RADIUS=500;X-TITLE=21-23 Preston Street:geo:-2.9849363644176,53.408947259526
END:VEVENT
BEGIN:VEVENT
DTSTART;TZID=UTC:20310419T100000
DTEND;TZID=UTC:20310419T120000
DTSTAMP:20260422T023312
CREATED:20240510T110847Z
LAST-MODIFIED:20240510T110848Z
UID:10021815-1934359200-1934366400@lcrbemore.co.uk
SUMMARY:JUNIOR ARTS SMART
DESCRIPTION:For young people who are children in Care aged between 8-14 years  \n\n\n\nWirral Youth Voice Projects enable young people to have a voice and influence providers\, in Wirral and beyond. \n\n\n\nThese groups work on the annual Wirral Youth Conference and Parliament \n\n\n\nFor more details contact Seline Wakerley – selinewakerley@wirral.gov.uk
URL:https://lcrbemore.co.uk/events/junior-arts-smart/2031-04-19/
LOCATION:Pilgrim Street Arts Centre\, 1 Pilgrim Street\, Birkenhead\, CH41 5EH\, United Kingdom
ATTACH;FMTTYPE=image/jpeg:https://lcrbemore.co.uk/wp-content/uploads/2024/05/YOUTH-VOICE-WIRRAL.jpg
END:VEVENT
BEGIN:VEVENT
DTSTART;TZID=UTC:20310419T103000
DTEND;TZID=UTC:20310419T103000
DTSTAMP:20260422T023312
CREATED:20221018T181702Z
LAST-MODIFIED:20221018T181703Z
UID:10021811-1934361000-1934361000@lcrbemore.co.uk
SUMMARY:DBS EXPERIENCE PROGRAMME
DESCRIPTION:
URL:https://lcrbemore.co.uk/events/dbs-experience-programme/2031-04-19/
LOCATION:Thrive\, 21-23 Preston Street\, Liverpool\, Liverpool\, L1 6DP\, United Kingdom
ATTACH;FMTTYPE=image/jpeg:https://lcrbemore.co.uk/wp-content/uploads/2022/10/Thrive.jpg
GEO:53.408947259526;-2.9849363644176
X-APPLE-STRUCTURED-LOCATION;VALUE=URI;X-ADDRESS=Thrive 21-23 Preston Street Liverpool Liverpool L1 6DP United Kingdom;X-APPLE-RADIUS=500;X-TITLE=21-23 Preston Street:geo:-2.9849363644176,53.408947259526
END:VEVENT
BEGIN:VEVENT
DTSTART;TZID=UTC:20310419T103000
DTEND;TZID=UTC:20310419T103000
DTSTAMP:20260422T023312
CREATED:20221018T181857Z
LAST-MODIFIED:20221018T181858Z
UID:10021812-1934361000-1934361000@lcrbemore.co.uk
SUMMARY:TRAINING WITH THE LEARNING FOUNDRY
DESCRIPTION:
URL:https://lcrbemore.co.uk/events/training-with-the-learning-foundry/2031-04-19/
LOCATION:Thrive\, 21-23 Preston Street\, Liverpool\, Liverpool\, L1 6DP\, United Kingdom
ATTACH;FMTTYPE=image/jpeg:https://lcrbemore.co.uk/wp-content/uploads/2022/10/Thrive.jpg
GEO:53.408947259526;-2.9849363644176
X-APPLE-STRUCTURED-LOCATION;VALUE=URI;X-ADDRESS=Thrive 21-23 Preston Street Liverpool Liverpool L1 6DP United Kingdom;X-APPLE-RADIUS=500;X-TITLE=21-23 Preston Street:geo:-2.9849363644176,53.408947259526
END:VEVENT
BEGIN:VEVENT
DTSTART;TZID=UTC:20310419T130000
DTEND;TZID=UTC:20310419T130000
DTSTAMP:20260422T023312
CREATED:20221018T181508Z
LAST-MODIFIED:20221018T181509Z
UID:10021813-1934370000-1934370000@lcrbemore.co.uk
SUMMARY:CV DROP IN
DESCRIPTION:
URL:https://lcrbemore.co.uk/events/cv-drop-in/2031-04-19/
LOCATION:Thrive\, 21-23 Preston Street\, Liverpool\, Liverpool\, L1 6DP\, United Kingdom
ATTACH;FMTTYPE=image/jpeg:https://lcrbemore.co.uk/wp-content/uploads/2022/10/Thrive.jpg
GEO:53.408947259526;-2.9849363644176
X-APPLE-STRUCTURED-LOCATION;VALUE=URI;X-ADDRESS=Thrive 21-23 Preston Street Liverpool Liverpool L1 6DP United Kingdom;X-APPLE-RADIUS=500;X-TITLE=21-23 Preston Street:geo:-2.9849363644176,53.408947259526
END:VEVENT
BEGIN:VEVENT
DTSTART;TZID=UTC:20310419T130000
DTEND;TZID=UTC:20310419T130000
DTSTAMP:20260422T023312
CREATED:20221018T182437Z
LAST-MODIFIED:20221018T182438Z
UID:10021814-1934370000-1934370000@lcrbemore.co.uk
SUMMARY:REGENDA HOUSING SUPPORT
DESCRIPTION:
URL:https://lcrbemore.co.uk/events/regenda-housing-support/2031-04-19/
LOCATION:Thrive\, 21-23 Preston Street\, Liverpool\, Liverpool\, L1 6DP\, United Kingdom
ATTACH;FMTTYPE=image/jpeg:https://lcrbemore.co.uk/wp-content/uploads/2022/10/Thrive.jpg
GEO:53.408947259526;-2.9849363644176
X-APPLE-STRUCTURED-LOCATION;VALUE=URI;X-ADDRESS=Thrive 21-23 Preston Street Liverpool Liverpool L1 6DP United Kingdom;X-APPLE-RADIUS=500;X-TITLE=21-23 Preston Street:geo:-2.9849363644176,53.408947259526
END:VEVENT
BEGIN:VEVENT
DTSTART;TZID=UTC:20310420T103000
DTEND;TZID=UTC:20310420T103000
DTSTAMP:20260422T023312
CREATED:20221018T181702Z
LAST-MODIFIED:20221018T181703Z
UID:10021816-1934447400-1934447400@lcrbemore.co.uk
SUMMARY:DBS EXPERIENCE PROGRAMME
DESCRIPTION:
URL:https://lcrbemore.co.uk/events/dbs-experience-programme/2031-04-20/
LOCATION:Thrive\, 21-23 Preston Street\, Liverpool\, Liverpool\, L1 6DP\, United Kingdom
ATTACH;FMTTYPE=image/jpeg:https://lcrbemore.co.uk/wp-content/uploads/2022/10/Thrive.jpg
GEO:53.408947259526;-2.9849363644176
X-APPLE-STRUCTURED-LOCATION;VALUE=URI;X-ADDRESS=Thrive 21-23 Preston Street Liverpool Liverpool L1 6DP United Kingdom;X-APPLE-RADIUS=500;X-TITLE=21-23 Preston Street:geo:-2.9849363644176,53.408947259526
END:VEVENT
BEGIN:VEVENT
DTSTART;TZID=UTC:20310420T103000
DTEND;TZID=UTC:20310420T103000
DTSTAMP:20260422T023312
CREATED:20221018T181857Z
LAST-MODIFIED:20221018T181858Z
UID:10021817-1934447400-1934447400@lcrbemore.co.uk
SUMMARY:TRAINING WITH THE LEARNING FOUNDRY
DESCRIPTION:
URL:https://lcrbemore.co.uk/events/training-with-the-learning-foundry/2031-04-20/
LOCATION:Thrive\, 21-23 Preston Street\, Liverpool\, Liverpool\, L1 6DP\, United Kingdom
ATTACH;FMTTYPE=image/jpeg:https://lcrbemore.co.uk/wp-content/uploads/2022/10/Thrive.jpg
GEO:53.408947259526;-2.9849363644176
X-APPLE-STRUCTURED-LOCATION;VALUE=URI;X-ADDRESS=Thrive 21-23 Preston Street Liverpool Liverpool L1 6DP United Kingdom;X-APPLE-RADIUS=500;X-TITLE=21-23 Preston Street:geo:-2.9849363644176,53.408947259526
END:VEVENT
BEGIN:VEVENT
DTSTART;TZID=UTC:20310420T130000
DTEND;TZID=UTC:20310420T130000
DTSTAMP:20260422T023312
CREATED:20221018T181508Z
LAST-MODIFIED:20221018T181509Z
UID:10021818-1934456400-1934456400@lcrbemore.co.uk
SUMMARY:CV DROP IN
DESCRIPTION:
URL:https://lcrbemore.co.uk/events/cv-drop-in/2031-04-20/
LOCATION:Thrive\, 21-23 Preston Street\, Liverpool\, Liverpool\, L1 6DP\, United Kingdom
ATTACH;FMTTYPE=image/jpeg:https://lcrbemore.co.uk/wp-content/uploads/2022/10/Thrive.jpg
GEO:53.408947259526;-2.9849363644176
X-APPLE-STRUCTURED-LOCATION;VALUE=URI;X-ADDRESS=Thrive 21-23 Preston Street Liverpool Liverpool L1 6DP United Kingdom;X-APPLE-RADIUS=500;X-TITLE=21-23 Preston Street:geo:-2.9849363644176,53.408947259526
END:VEVENT
BEGIN:VEVENT
DTSTART;TZID=UTC:20310420T130000
DTEND;TZID=UTC:20310420T130000
DTSTAMP:20260422T023312
CREATED:20221018T182437Z
LAST-MODIFIED:20221018T182438Z
UID:10021819-1934456400-1934456400@lcrbemore.co.uk
SUMMARY:REGENDA HOUSING SUPPORT
DESCRIPTION:
URL:https://lcrbemore.co.uk/events/regenda-housing-support/2031-04-20/
LOCATION:Thrive\, 21-23 Preston Street\, Liverpool\, Liverpool\, L1 6DP\, United Kingdom
ATTACH;FMTTYPE=image/jpeg:https://lcrbemore.co.uk/wp-content/uploads/2022/10/Thrive.jpg
GEO:53.408947259526;-2.9849363644176
X-APPLE-STRUCTURED-LOCATION;VALUE=URI;X-ADDRESS=Thrive 21-23 Preston Street Liverpool Liverpool L1 6DP United Kingdom;X-APPLE-RADIUS=500;X-TITLE=21-23 Preston Street:geo:-2.9849363644176,53.408947259526
END:VEVENT
BEGIN:VEVENT
DTSTART;TZID=UTC:20310421T103000
DTEND;TZID=UTC:20310421T103000
DTSTAMP:20260422T023312
CREATED:20221018T181702Z
LAST-MODIFIED:20221018T181703Z
UID:10021820-1934533800-1934533800@lcrbemore.co.uk
SUMMARY:DBS EXPERIENCE PROGRAMME
DESCRIPTION:
URL:https://lcrbemore.co.uk/events/dbs-experience-programme/2031-04-21/
LOCATION:Thrive\, 21-23 Preston Street\, Liverpool\, Liverpool\, L1 6DP\, United Kingdom
ATTACH;FMTTYPE=image/jpeg:https://lcrbemore.co.uk/wp-content/uploads/2022/10/Thrive.jpg
GEO:53.408947259526;-2.9849363644176
X-APPLE-STRUCTURED-LOCATION;VALUE=URI;X-ADDRESS=Thrive 21-23 Preston Street Liverpool Liverpool L1 6DP United Kingdom;X-APPLE-RADIUS=500;X-TITLE=21-23 Preston Street:geo:-2.9849363644176,53.408947259526
END:VEVENT
BEGIN:VEVENT
DTSTART;TZID=UTC:20310421T103000
DTEND;TZID=UTC:20310421T103000
DTSTAMP:20260422T023312
CREATED:20221018T181857Z
LAST-MODIFIED:20221018T181858Z
UID:10021821-1934533800-1934533800@lcrbemore.co.uk
SUMMARY:TRAINING WITH THE LEARNING FOUNDRY
DESCRIPTION:
URL:https://lcrbemore.co.uk/events/training-with-the-learning-foundry/2031-04-21/
LOCATION:Thrive\, 21-23 Preston Street\, Liverpool\, Liverpool\, L1 6DP\, United Kingdom
ATTACH;FMTTYPE=image/jpeg:https://lcrbemore.co.uk/wp-content/uploads/2022/10/Thrive.jpg
GEO:53.408947259526;-2.9849363644176
X-APPLE-STRUCTURED-LOCATION;VALUE=URI;X-ADDRESS=Thrive 21-23 Preston Street Liverpool Liverpool L1 6DP United Kingdom;X-APPLE-RADIUS=500;X-TITLE=21-23 Preston Street:geo:-2.9849363644176,53.408947259526
END:VEVENT
BEGIN:VEVENT
DTSTART;TZID=UTC:20310421T130000
DTEND;TZID=UTC:20310421T130000
DTSTAMP:20260422T023312
CREATED:20221018T181508Z
LAST-MODIFIED:20221018T181509Z
UID:10021822-1934542800-1934542800@lcrbemore.co.uk
SUMMARY:CV DROP IN
DESCRIPTION:
URL:https://lcrbemore.co.uk/events/cv-drop-in/2031-04-21/
LOCATION:Thrive\, 21-23 Preston Street\, Liverpool\, Liverpool\, L1 6DP\, United Kingdom
ATTACH;FMTTYPE=image/jpeg:https://lcrbemore.co.uk/wp-content/uploads/2022/10/Thrive.jpg
GEO:53.408947259526;-2.9849363644176
X-APPLE-STRUCTURED-LOCATION;VALUE=URI;X-ADDRESS=Thrive 21-23 Preston Street Liverpool Liverpool L1 6DP United Kingdom;X-APPLE-RADIUS=500;X-TITLE=21-23 Preston Street:geo:-2.9849363644176,53.408947259526
END:VEVENT
BEGIN:VEVENT
DTSTART;TZID=UTC:20310421T130000
DTEND;TZID=UTC:20310421T130000
DTSTAMP:20260422T023312
CREATED:20221018T182437Z
LAST-MODIFIED:20221018T182438Z
UID:10021823-1934542800-1934542800@lcrbemore.co.uk
SUMMARY:REGENDA HOUSING SUPPORT
DESCRIPTION:
URL:https://lcrbemore.co.uk/events/regenda-housing-support/2031-04-21/
LOCATION:Thrive\, 21-23 Preston Street\, Liverpool\, Liverpool\, L1 6DP\, United Kingdom
ATTACH;FMTTYPE=image/jpeg:https://lcrbemore.co.uk/wp-content/uploads/2022/10/Thrive.jpg
GEO:53.408947259526;-2.9849363644176
X-APPLE-STRUCTURED-LOCATION;VALUE=URI;X-ADDRESS=Thrive 21-23 Preston Street Liverpool Liverpool L1 6DP United Kingdom;X-APPLE-RADIUS=500;X-TITLE=21-23 Preston Street:geo:-2.9849363644176,53.408947259526
END:VEVENT
BEGIN:VEVENT
DTSTART;TZID=UTC:20310421T170000
DTEND;TZID=UTC:20310421T183000
DTSTAMP:20260422T023312
CREATED:20240510T105800Z
LAST-MODIFIED:20240510T105802Z
UID:10021824-1934557200-1934562600@lcrbemore.co.uk
SUMMARY:YOUTH VOICE PROJECTS
DESCRIPTION:Wirral Youth Voice Projects enable young people to have a voice and influence providers\, in Wirral and beyond.  \n\n\n\nThese groups work on the annual Wirral Youth Conference and Parliament  \n\n\n\n11-19yrs (up to 25 for SEND/CIC/ND) \n\n\n\nFor more details contact Seline Wakerley – selinewakerley@wirral.gov.uk
URL:https://lcrbemore.co.uk/events/youth-voice-projects/2031-04-21/
LOCATION:Pilgrim Street Arts Centre\, 1 Pilgrim Street\, Birkenhead\, CH41 5EH\, United Kingdom
ATTACH;FMTTYPE=image/jpeg:https://lcrbemore.co.uk/wp-content/uploads/2024/05/YOUTH-VOICE-WIRRAL.jpg
END:VEVENT
END:VCALENDAR