



BEGIN:VCALENDAR
VERSION:2.0
PRODID:-//BeMore - ECPv6.15.1//NONSGML v1.0//EN
CALSCALE:GREGORIAN
METHOD:PUBLISH
X-ORIGINAL-URL:https://lcrbemore.co.uk
X-WR-CALDESC:Events for BeMore
REFRESH-INTERVAL;VALUE=DURATION:PT1H
X-Robots-Tag:noindex
X-PUBLISHED-TTL:PT1H
BEGIN:VTIMEZONE
TZID:UTC
BEGIN:STANDARD
TZOFFSETFROM:+0000
TZOFFSETTO:+0000
TZNAME:UTC
DTSTART:20260101T000000
END:STANDARD
END:VTIMEZONE
BEGIN:VTIMEZONE
TZID:Australia/Melbourne
BEGIN:STANDARD
TZOFFSETFROM:+1100
TZOFFSETTO:+1000
TZNAME:AEST
DTSTART:20260404T160000
END:STANDARD
BEGIN:DAYLIGHT
TZOFFSETFROM:+1000
TZOFFSETTO:+1100
TZNAME:AEDT
DTSTART:20261003T160000
END:DAYLIGHT
END:VTIMEZONE
BEGIN:VEVENT
DTSTART;TZID=UTC:20261027T103000
DTEND;TZID=UTC:20261027T120000
DTSTAMP:20260422T215912
CREATED:20221017T135527Z
LAST-MODIFIED:20221017T140610Z
UID:10015676-1793097000-1793102400@lcrbemore.co.uk
SUMMARY:CUSTOMER SERVICE TRAINING
DESCRIPTION:
URL:https://lcrbemore.co.uk/events/customer-service-training%ef%bf%bc/2026-10-27/
ATTACH;FMTTYPE=image/png:https://lcrbemore.co.uk/wp-content/uploads/2023/01/Screenshot-2023-01-17-at-11.32.34.png
END:VEVENT
BEGIN:VEVENT
DTSTART;TZID=UTC:20261027T130000
DTEND;TZID=UTC:20261027T130000
DTSTAMP:20260422T215912
CREATED:20221018T181508Z
LAST-MODIFIED:20221018T181509Z
UID:10012501-1793106000-1793106000@lcrbemore.co.uk
SUMMARY:CV DROP IN
DESCRIPTION:
URL:https://lcrbemore.co.uk/events/cv-drop-in/2026-10-27/
LOCATION:Thrive\, 21-23 Preston Street\, Liverpool\, Liverpool\, L1 6DP\, United Kingdom
ATTACH;FMTTYPE=image/jpeg:https://lcrbemore.co.uk/wp-content/uploads/2022/10/Thrive.jpg
GEO:53.408947259526;-2.9849363644176
X-APPLE-STRUCTURED-LOCATION;VALUE=URI;X-ADDRESS=Thrive 21-23 Preston Street Liverpool Liverpool L1 6DP United Kingdom;X-APPLE-RADIUS=500;X-TITLE=21-23 Preston Street:geo:-2.9849363644176,53.408947259526
END:VEVENT
BEGIN:VEVENT
DTSTART;TZID=UTC:20261027T130000
DTEND;TZID=UTC:20261027T130000
DTSTAMP:20260422T215912
CREATED:20221018T182437Z
LAST-MODIFIED:20221018T182438Z
UID:10017948-1793106000-1793106000@lcrbemore.co.uk
SUMMARY:REGENDA HOUSING SUPPORT
DESCRIPTION:
URL:https://lcrbemore.co.uk/events/regenda-housing-support/2026-10-27/
LOCATION:Thrive\, 21-23 Preston Street\, Liverpool\, Liverpool\, L1 6DP\, United Kingdom
ATTACH;FMTTYPE=image/jpeg:https://lcrbemore.co.uk/wp-content/uploads/2022/10/Thrive.jpg
GEO:53.408947259526;-2.9849363644176
X-APPLE-STRUCTURED-LOCATION;VALUE=URI;X-ADDRESS=Thrive 21-23 Preston Street Liverpool Liverpool L1 6DP United Kingdom;X-APPLE-RADIUS=500;X-TITLE=21-23 Preston Street:geo:-2.9849363644176,53.408947259526
END:VEVENT
BEGIN:VEVENT
DTSTART;TZID=UTC:20261027T163000
DTEND;TZID=UTC:20261027T173000
DTSTAMP:20260422T215912
CREATED:20240510T110545Z
LAST-MODIFIED:20240510T110546Z
UID:10020592-1793118600-1793122200@lcrbemore.co.uk
SUMMARY:WIRRAL COOL YOUTH
DESCRIPTION:This is an online group – Environment Group  \n\n\n\nEmail selinewakerley@wirral.gov.uk to join \n\n\n\nWirral Youth Voice Projects enable young people to have a voice and influence providers\, in Wirral and beyond. \n\n\n\nThese groups work on the annual Wirral Youth Conference and Parliament \n\n\n\n11-19yrs (up to 25 for SEND/CIC/ND)
URL:https://lcrbemore.co.uk/events/wirral-cool-youth/2026-10-27/
ATTACH;FMTTYPE=image/jpeg:https://lcrbemore.co.uk/wp-content/uploads/2024/05/YOUTH-VOICE-WIRRAL.jpg
END:VEVENT
BEGIN:VEVENT
DTSTART;TZID=UTC:20261027T180000
DTEND;TZID=UTC:20261027T193000
DTSTAMP:20260422T215912
CREATED:20240510T110052Z
LAST-MODIFIED:20240510T110053Z
UID:10020831-1793124000-1793129400@lcrbemore.co.uk
SUMMARY:SEND YOUTH VOICE GROUP
DESCRIPTION:Wirral Youth Voice Projects enable young people to have a voice and influence providers\, in Wirral and beyond. \n\n\n\nThese groups work on the annual Wirral Youth Conference and Parliament \n\n\n\n11-19yrs (up to 25 for SEND/CIC/ND) \n\n\n\nFor more details contact Seline Wakerley – selinewakerley@wirral.gov.uk
URL:https://lcrbemore.co.uk/events/send-youth-voice-group/2026-10-27/
LOCATION:Pilgrim Street Arts Centre\, 1 Pilgrim Street\, Birkenhead\, CH41 5EH\, United Kingdom
ATTACH;FMTTYPE=image/jpeg:https://lcrbemore.co.uk/wp-content/uploads/2024/05/YOUTH-VOICE-WIRRAL.jpg
END:VEVENT
BEGIN:VEVENT
DTSTART;TZID=Australia/Melbourne:20261028T080000
DTEND;TZID=Australia/Melbourne:20261028T170000
DTSTAMP:20260422T215912
CREATED:20250512T073530Z
LAST-MODIFIED:20250512T073531Z
UID:10011415-1793174400-1793206800@lcrbemore.co.uk
SUMMARY:Everton in the Community - SCORE programme
DESCRIPTION:Are you aged 18 – 30 and looking for support to find a job in the Health and Social Care sector? \n\n\n\nEverton in the Community can help you! \n\n\n\nEitC can support you with applying for a job\, updating your CV and matching your skills to a role that would best suit you.
URL:https://lcrbemore.co.uk/events/everton-in-the-community-score-programme/2026-10-28/
LOCATION:The People’s Hub\, Spellow Lane\, Liverpool\, L4 4DF
ATTACH;FMTTYPE=image/png:https://lcrbemore.co.uk/wp-content/uploads/2022/08/Everton-in-The-Community-2.png
END:VEVENT
BEGIN:VEVENT
DTSTART;TZID=UTC:20261028T103000
DTEND;TZID=UTC:20261028T103000
DTSTAMP:20260422T215912
CREATED:20221018T181702Z
LAST-MODIFIED:20221018T181703Z
UID:10014213-1793183400-1793183400@lcrbemore.co.uk
SUMMARY:DBS EXPERIENCE PROGRAMME
DESCRIPTION:
URL:https://lcrbemore.co.uk/events/dbs-experience-programme/2026-10-28/
LOCATION:Thrive\, 21-23 Preston Street\, Liverpool\, Liverpool\, L1 6DP\, United Kingdom
ATTACH;FMTTYPE=image/jpeg:https://lcrbemore.co.uk/wp-content/uploads/2022/10/Thrive.jpg
GEO:53.408947259526;-2.9849363644176
X-APPLE-STRUCTURED-LOCATION;VALUE=URI;X-ADDRESS=Thrive 21-23 Preston Street Liverpool Liverpool L1 6DP United Kingdom;X-APPLE-RADIUS=500;X-TITLE=21-23 Preston Street:geo:-2.9849363644176,53.408947259526
END:VEVENT
BEGIN:VEVENT
DTSTART;TZID=UTC:20261028T103000
DTEND;TZID=UTC:20261028T103000
DTSTAMP:20260422T215912
CREATED:20221018T181857Z
LAST-MODIFIED:20221018T181858Z
UID:10016111-1793183400-1793183400@lcrbemore.co.uk
SUMMARY:TRAINING WITH THE LEARNING FOUNDRY
DESCRIPTION:
URL:https://lcrbemore.co.uk/events/training-with-the-learning-foundry/2026-10-28/
LOCATION:Thrive\, 21-23 Preston Street\, Liverpool\, Liverpool\, L1 6DP\, United Kingdom
ATTACH;FMTTYPE=image/jpeg:https://lcrbemore.co.uk/wp-content/uploads/2022/10/Thrive.jpg
GEO:53.408947259526;-2.9849363644176
X-APPLE-STRUCTURED-LOCATION;VALUE=URI;X-ADDRESS=Thrive 21-23 Preston Street Liverpool Liverpool L1 6DP United Kingdom;X-APPLE-RADIUS=500;X-TITLE=21-23 Preston Street:geo:-2.9849363644176,53.408947259526
END:VEVENT
BEGIN:VEVENT
DTSTART;TZID=UTC:20261028T130000
DTEND;TZID=UTC:20261028T130000
DTSTAMP:20260422T215912
CREATED:20221018T181508Z
LAST-MODIFIED:20221018T181509Z
UID:10012502-1793192400-1793192400@lcrbemore.co.uk
SUMMARY:CV DROP IN
DESCRIPTION:
URL:https://lcrbemore.co.uk/events/cv-drop-in/2026-10-28/
LOCATION:Thrive\, 21-23 Preston Street\, Liverpool\, Liverpool\, L1 6DP\, United Kingdom
ATTACH;FMTTYPE=image/jpeg:https://lcrbemore.co.uk/wp-content/uploads/2022/10/Thrive.jpg
GEO:53.408947259526;-2.9849363644176
X-APPLE-STRUCTURED-LOCATION;VALUE=URI;X-ADDRESS=Thrive 21-23 Preston Street Liverpool Liverpool L1 6DP United Kingdom;X-APPLE-RADIUS=500;X-TITLE=21-23 Preston Street:geo:-2.9849363644176,53.408947259526
END:VEVENT
BEGIN:VEVENT
DTSTART;TZID=UTC:20261028T130000
DTEND;TZID=UTC:20261028T130000
DTSTAMP:20260422T215912
CREATED:20221018T182437Z
LAST-MODIFIED:20221018T182438Z
UID:10017949-1793192400-1793192400@lcrbemore.co.uk
SUMMARY:REGENDA HOUSING SUPPORT
DESCRIPTION:
URL:https://lcrbemore.co.uk/events/regenda-housing-support/2026-10-28/
LOCATION:Thrive\, 21-23 Preston Street\, Liverpool\, Liverpool\, L1 6DP\, United Kingdom
ATTACH;FMTTYPE=image/jpeg:https://lcrbemore.co.uk/wp-content/uploads/2022/10/Thrive.jpg
GEO:53.408947259526;-2.9849363644176
X-APPLE-STRUCTURED-LOCATION;VALUE=URI;X-ADDRESS=Thrive 21-23 Preston Street Liverpool Liverpool L1 6DP United Kingdom;X-APPLE-RADIUS=500;X-TITLE=21-23 Preston Street:geo:-2.9849363644176,53.408947259526
END:VEVENT
BEGIN:VEVENT
DTSTART;TZID=UTC:20261028T130000
DTEND;TZID=UTC:20261028T170000
DTSTAMP:20260422T215912
CREATED:20221018T172632Z
LAST-MODIFIED:20221018T180221Z
UID:10011645-1793192400-1793206800@lcrbemore.co.uk
SUMMARY:DROP IN SESSIONS
DESCRIPTION:DWP Work Coach available to support with Universal Credit claims.
URL:https://lcrbemore.co.uk/events/drop-in-sessions/2026-10-28/
LOCATION:Merseyside Youth Association\, 65-67 Hanover Street\, Liverpool\, Liverpool\, L1 3DY\, United Kingdom
ATTACH;FMTTYPE=image/png:https://lcrbemore.co.uk/wp-content/uploads/2022/10/stock-event.png
GEO:53.404306319392;-2.9825169067472
X-APPLE-STRUCTURED-LOCATION;VALUE=URI;X-ADDRESS=Merseyside Youth Association 65-67 Hanover Street Liverpool Liverpool L1 3DY United Kingdom;X-APPLE-RADIUS=500;X-TITLE=65-67 Hanover Street:geo:-2.9825169067472,53.404306319392
END:VEVENT
BEGIN:VEVENT
DTSTART;TZID=UTC:20261028T130000
DTEND;TZID=UTC:20261028T170000
DTSTAMP:20260422T215912
CREATED:20221018T175015Z
LAST-MODIFIED:20231218T144607Z
UID:10019498-1793192400-1793206800@lcrbemore.co.uk
SUMMARY:WEDNESDAY AFTERNOONS WITH THE HUB
DESCRIPTION:Personal skills development programme for a neurodiverse cohort of 15 young people. Activities include – CV building\, employer sessions\, woodland walk and much more!
URL:https://lcrbemore.co.uk/events/wednesday-afternoons-with-the-hub-2/2026-10-28/
LOCATION:Merseyside Youth Association\, 65-67 Hanover Street\, Liverpool\, Liverpool\, L1 3DY\, United Kingdom
ATTACH;FMTTYPE=image/jpeg:https://lcrbemore.co.uk/wp-content/uploads/2022/10/Merseyside-Youth-Association.jpg
GEO:53.404306319392;-2.9825169067472
X-APPLE-STRUCTURED-LOCATION;VALUE=URI;X-ADDRESS=Merseyside Youth Association 65-67 Hanover Street Liverpool Liverpool L1 3DY United Kingdom;X-APPLE-RADIUS=500;X-TITLE=65-67 Hanover Street:geo:-2.9825169067472,53.404306319392
END:VEVENT
BEGIN:VEVENT
DTSTART;TZID=UTC:20261029T103000
DTEND;TZID=UTC:20261029T103000
DTSTAMP:20260422T215912
CREATED:20221018T181702Z
LAST-MODIFIED:20221018T181703Z
UID:10014214-1793269800-1793269800@lcrbemore.co.uk
SUMMARY:DBS EXPERIENCE PROGRAMME
DESCRIPTION:
URL:https://lcrbemore.co.uk/events/dbs-experience-programme/2026-10-29/
LOCATION:Thrive\, 21-23 Preston Street\, Liverpool\, Liverpool\, L1 6DP\, United Kingdom
ATTACH;FMTTYPE=image/jpeg:https://lcrbemore.co.uk/wp-content/uploads/2022/10/Thrive.jpg
GEO:53.408947259526;-2.9849363644176
X-APPLE-STRUCTURED-LOCATION;VALUE=URI;X-ADDRESS=Thrive 21-23 Preston Street Liverpool Liverpool L1 6DP United Kingdom;X-APPLE-RADIUS=500;X-TITLE=21-23 Preston Street:geo:-2.9849363644176,53.408947259526
END:VEVENT
BEGIN:VEVENT
DTSTART;TZID=UTC:20261029T103000
DTEND;TZID=UTC:20261029T103000
DTSTAMP:20260422T215912
CREATED:20221018T181857Z
LAST-MODIFIED:20221018T181858Z
UID:10016112-1793269800-1793269800@lcrbemore.co.uk
SUMMARY:TRAINING WITH THE LEARNING FOUNDRY
DESCRIPTION:
URL:https://lcrbemore.co.uk/events/training-with-the-learning-foundry/2026-10-29/
LOCATION:Thrive\, 21-23 Preston Street\, Liverpool\, Liverpool\, L1 6DP\, United Kingdom
ATTACH;FMTTYPE=image/jpeg:https://lcrbemore.co.uk/wp-content/uploads/2022/10/Thrive.jpg
GEO:53.408947259526;-2.9849363644176
X-APPLE-STRUCTURED-LOCATION;VALUE=URI;X-ADDRESS=Thrive 21-23 Preston Street Liverpool Liverpool L1 6DP United Kingdom;X-APPLE-RADIUS=500;X-TITLE=21-23 Preston Street:geo:-2.9849363644176,53.408947259526
END:VEVENT
BEGIN:VEVENT
DTSTART;TZID=UTC:20261029T130000
DTEND;TZID=UTC:20261029T130000
DTSTAMP:20260422T215912
CREATED:20221018T181508Z
LAST-MODIFIED:20221018T181509Z
UID:10012503-1793278800-1793278800@lcrbemore.co.uk
SUMMARY:CV DROP IN
DESCRIPTION:
URL:https://lcrbemore.co.uk/events/cv-drop-in/2026-10-29/
LOCATION:Thrive\, 21-23 Preston Street\, Liverpool\, Liverpool\, L1 6DP\, United Kingdom
ATTACH;FMTTYPE=image/jpeg:https://lcrbemore.co.uk/wp-content/uploads/2022/10/Thrive.jpg
GEO:53.408947259526;-2.9849363644176
X-APPLE-STRUCTURED-LOCATION;VALUE=URI;X-ADDRESS=Thrive 21-23 Preston Street Liverpool Liverpool L1 6DP United Kingdom;X-APPLE-RADIUS=500;X-TITLE=21-23 Preston Street:geo:-2.9849363644176,53.408947259526
END:VEVENT
BEGIN:VEVENT
DTSTART;TZID=UTC:20261029T130000
DTEND;TZID=UTC:20261029T130000
DTSTAMP:20260422T215912
CREATED:20221018T182437Z
LAST-MODIFIED:20221018T182438Z
UID:10017950-1793278800-1793278800@lcrbemore.co.uk
SUMMARY:REGENDA HOUSING SUPPORT
DESCRIPTION:
URL:https://lcrbemore.co.uk/events/regenda-housing-support/2026-10-29/
LOCATION:Thrive\, 21-23 Preston Street\, Liverpool\, Liverpool\, L1 6DP\, United Kingdom
ATTACH;FMTTYPE=image/jpeg:https://lcrbemore.co.uk/wp-content/uploads/2022/10/Thrive.jpg
GEO:53.408947259526;-2.9849363644176
X-APPLE-STRUCTURED-LOCATION;VALUE=URI;X-ADDRESS=Thrive 21-23 Preston Street Liverpool Liverpool L1 6DP United Kingdom;X-APPLE-RADIUS=500;X-TITLE=21-23 Preston Street:geo:-2.9849363644176,53.408947259526
END:VEVENT
BEGIN:VEVENT
DTSTART;TZID=UTC:20261030T000000
DTEND;TZID=UTC:20261030T235959
DTSTAMP:20260422T215912
CREATED:20221018T172012Z
LAST-MODIFIED:20221018T180345Z
UID:10011908-1793318400-1793404799@lcrbemore.co.uk
SUMMARY:CV SUPPORT
DESCRIPTION:Seetec CV Advisor attending Hub
URL:https://lcrbemore.co.uk/events/cv-support/2026-10-30/
LOCATION:Merseyside Youth Association\, 65-67 Hanover Street\, Liverpool\, Liverpool\, L1 3DY\, United Kingdom
ATTACH;FMTTYPE=image/png:https://lcrbemore.co.uk/wp-content/uploads/2022/10/stock-event.png
GEO:53.404306319392;-2.9825169067472
X-APPLE-STRUCTURED-LOCATION;VALUE=URI;X-ADDRESS=Merseyside Youth Association 65-67 Hanover Street Liverpool Liverpool L1 3DY United Kingdom;X-APPLE-RADIUS=500;X-TITLE=65-67 Hanover Street:geo:-2.9825169067472,53.404306319392
END:VEVENT
BEGIN:VEVENT
DTSTART;TZID=UTC:20261030T090000
DTEND;TZID=UTC:20261030T163000
DTSTAMP:20260422T215912
CREATED:20240722T073752Z
LAST-MODIFIED:20240722T073753Z
UID:10020966-1793350800-1793377800@lcrbemore.co.uk
SUMMARY:SEETEC: IAG/CV CREATION
DESCRIPTION:Hourly appointments to help you create a stunning CV.
URL:https://lcrbemore.co.uk/events/seetec-iag-cv-creation/2026-10-30/
LOCATION:Merseyside Youth Association\, 65-67 Hanover Street\, Liverpool\, Liverpool\, L1 3DY\, United Kingdom
ATTACH;FMTTYPE=image/png:https://lcrbemore.co.uk/wp-content/uploads/2023/01/Screenshot-2023-01-17-at-11.32.34.png
GEO:53.404306319392;-2.9825169067472
X-APPLE-STRUCTURED-LOCATION;VALUE=URI;X-ADDRESS=Merseyside Youth Association 65-67 Hanover Street Liverpool Liverpool L1 3DY United Kingdom;X-APPLE-RADIUS=500;X-TITLE=65-67 Hanover Street:geo:-2.9825169067472,53.404306319392
END:VEVENT
BEGIN:VEVENT
DTSTART;TZID=UTC:20261030T103000
DTEND;TZID=UTC:20261030T103000
DTSTAMP:20260422T215912
CREATED:20221018T181702Z
LAST-MODIFIED:20221018T181703Z
UID:10014215-1793356200-1793356200@lcrbemore.co.uk
SUMMARY:DBS EXPERIENCE PROGRAMME
DESCRIPTION:
URL:https://lcrbemore.co.uk/events/dbs-experience-programme/2026-10-30/
LOCATION:Thrive\, 21-23 Preston Street\, Liverpool\, Liverpool\, L1 6DP\, United Kingdom
ATTACH;FMTTYPE=image/jpeg:https://lcrbemore.co.uk/wp-content/uploads/2022/10/Thrive.jpg
GEO:53.408947259526;-2.9849363644176
X-APPLE-STRUCTURED-LOCATION;VALUE=URI;X-ADDRESS=Thrive 21-23 Preston Street Liverpool Liverpool L1 6DP United Kingdom;X-APPLE-RADIUS=500;X-TITLE=21-23 Preston Street:geo:-2.9849363644176,53.408947259526
END:VEVENT
BEGIN:VEVENT
DTSTART;TZID=UTC:20261030T103000
DTEND;TZID=UTC:20261030T103000
DTSTAMP:20260422T215912
CREATED:20221018T181857Z
LAST-MODIFIED:20221018T181858Z
UID:10016113-1793356200-1793356200@lcrbemore.co.uk
SUMMARY:TRAINING WITH THE LEARNING FOUNDRY
DESCRIPTION:
URL:https://lcrbemore.co.uk/events/training-with-the-learning-foundry/2026-10-30/
LOCATION:Thrive\, 21-23 Preston Street\, Liverpool\, Liverpool\, L1 6DP\, United Kingdom
ATTACH;FMTTYPE=image/jpeg:https://lcrbemore.co.uk/wp-content/uploads/2022/10/Thrive.jpg
GEO:53.408947259526;-2.9849363644176
X-APPLE-STRUCTURED-LOCATION;VALUE=URI;X-ADDRESS=Thrive 21-23 Preston Street Liverpool Liverpool L1 6DP United Kingdom;X-APPLE-RADIUS=500;X-TITLE=21-23 Preston Street:geo:-2.9849363644176,53.408947259526
END:VEVENT
BEGIN:VEVENT
DTSTART;TZID=UTC:20261030T130000
DTEND;TZID=UTC:20261030T130000
DTSTAMP:20260422T215912
CREATED:20221018T181508Z
LAST-MODIFIED:20221018T181509Z
UID:10012504-1793365200-1793365200@lcrbemore.co.uk
SUMMARY:CV DROP IN
DESCRIPTION:
URL:https://lcrbemore.co.uk/events/cv-drop-in/2026-10-30/
LOCATION:Thrive\, 21-23 Preston Street\, Liverpool\, Liverpool\, L1 6DP\, United Kingdom
ATTACH;FMTTYPE=image/jpeg:https://lcrbemore.co.uk/wp-content/uploads/2022/10/Thrive.jpg
GEO:53.408947259526;-2.9849363644176
X-APPLE-STRUCTURED-LOCATION;VALUE=URI;X-ADDRESS=Thrive 21-23 Preston Street Liverpool Liverpool L1 6DP United Kingdom;X-APPLE-RADIUS=500;X-TITLE=21-23 Preston Street:geo:-2.9849363644176,53.408947259526
END:VEVENT
BEGIN:VEVENT
DTSTART;TZID=UTC:20261030T130000
DTEND;TZID=UTC:20261030T130000
DTSTAMP:20260422T215912
CREATED:20221018T182437Z
LAST-MODIFIED:20221018T182438Z
UID:10017951-1793365200-1793365200@lcrbemore.co.uk
SUMMARY:REGENDA HOUSING SUPPORT
DESCRIPTION:
URL:https://lcrbemore.co.uk/events/regenda-housing-support/2026-10-30/
LOCATION:Thrive\, 21-23 Preston Street\, Liverpool\, Liverpool\, L1 6DP\, United Kingdom
ATTACH;FMTTYPE=image/jpeg:https://lcrbemore.co.uk/wp-content/uploads/2022/10/Thrive.jpg
GEO:53.408947259526;-2.9849363644176
X-APPLE-STRUCTURED-LOCATION;VALUE=URI;X-ADDRESS=Thrive 21-23 Preston Street Liverpool Liverpool L1 6DP United Kingdom;X-APPLE-RADIUS=500;X-TITLE=21-23 Preston Street:geo:-2.9849363644176,53.408947259526
END:VEVENT
BEGIN:VEVENT
DTSTART;TZID=UTC:20261031T100000
DTEND;TZID=UTC:20261031T120000
DTSTAMP:20260422T215912
CREATED:20240510T110847Z
LAST-MODIFIED:20240510T110848Z
UID:10020102-1793440800-1793448000@lcrbemore.co.uk
SUMMARY:JUNIOR ARTS SMART
DESCRIPTION:For young people who are children in Care aged between 8-14 years  \n\n\n\nWirral Youth Voice Projects enable young people to have a voice and influence providers\, in Wirral and beyond. \n\n\n\nThese groups work on the annual Wirral Youth Conference and Parliament \n\n\n\nFor more details contact Seline Wakerley – selinewakerley@wirral.gov.uk
URL:https://lcrbemore.co.uk/events/junior-arts-smart/2026-10-31/
LOCATION:Pilgrim Street Arts Centre\, 1 Pilgrim Street\, Birkenhead\, CH41 5EH\, United Kingdom
ATTACH;FMTTYPE=image/jpeg:https://lcrbemore.co.uk/wp-content/uploads/2024/05/YOUTH-VOICE-WIRRAL.jpg
END:VEVENT
BEGIN:VEVENT
DTSTART;TZID=UTC:20261031T103000
DTEND;TZID=UTC:20261031T103000
DTSTAMP:20260422T215912
CREATED:20221018T181702Z
LAST-MODIFIED:20221018T181703Z
UID:10014216-1793442600-1793442600@lcrbemore.co.uk
SUMMARY:DBS EXPERIENCE PROGRAMME
DESCRIPTION:
URL:https://lcrbemore.co.uk/events/dbs-experience-programme/2026-10-31/
LOCATION:Thrive\, 21-23 Preston Street\, Liverpool\, Liverpool\, L1 6DP\, United Kingdom
ATTACH;FMTTYPE=image/jpeg:https://lcrbemore.co.uk/wp-content/uploads/2022/10/Thrive.jpg
GEO:53.408947259526;-2.9849363644176
X-APPLE-STRUCTURED-LOCATION;VALUE=URI;X-ADDRESS=Thrive 21-23 Preston Street Liverpool Liverpool L1 6DP United Kingdom;X-APPLE-RADIUS=500;X-TITLE=21-23 Preston Street:geo:-2.9849363644176,53.408947259526
END:VEVENT
BEGIN:VEVENT
DTSTART;TZID=UTC:20261031T103000
DTEND;TZID=UTC:20261031T103000
DTSTAMP:20260422T215912
CREATED:20221018T181857Z
LAST-MODIFIED:20221018T181858Z
UID:10016114-1793442600-1793442600@lcrbemore.co.uk
SUMMARY:TRAINING WITH THE LEARNING FOUNDRY
DESCRIPTION:
URL:https://lcrbemore.co.uk/events/training-with-the-learning-foundry/2026-10-31/
LOCATION:Thrive\, 21-23 Preston Street\, Liverpool\, Liverpool\, L1 6DP\, United Kingdom
ATTACH;FMTTYPE=image/jpeg:https://lcrbemore.co.uk/wp-content/uploads/2022/10/Thrive.jpg
GEO:53.408947259526;-2.9849363644176
X-APPLE-STRUCTURED-LOCATION;VALUE=URI;X-ADDRESS=Thrive 21-23 Preston Street Liverpool Liverpool L1 6DP United Kingdom;X-APPLE-RADIUS=500;X-TITLE=21-23 Preston Street:geo:-2.9849363644176,53.408947259526
END:VEVENT
BEGIN:VEVENT
DTSTART;TZID=UTC:20261031T130000
DTEND;TZID=UTC:20261031T130000
DTSTAMP:20260422T215912
CREATED:20221018T181508Z
LAST-MODIFIED:20221018T181509Z
UID:10012505-1793451600-1793451600@lcrbemore.co.uk
SUMMARY:CV DROP IN
DESCRIPTION:
URL:https://lcrbemore.co.uk/events/cv-drop-in/2026-10-31/
LOCATION:Thrive\, 21-23 Preston Street\, Liverpool\, Liverpool\, L1 6DP\, United Kingdom
ATTACH;FMTTYPE=image/jpeg:https://lcrbemore.co.uk/wp-content/uploads/2022/10/Thrive.jpg
GEO:53.408947259526;-2.9849363644176
X-APPLE-STRUCTURED-LOCATION;VALUE=URI;X-ADDRESS=Thrive 21-23 Preston Street Liverpool Liverpool L1 6DP United Kingdom;X-APPLE-RADIUS=500;X-TITLE=21-23 Preston Street:geo:-2.9849363644176,53.408947259526
END:VEVENT
BEGIN:VEVENT
DTSTART;TZID=UTC:20261031T130000
DTEND;TZID=UTC:20261031T130000
DTSTAMP:20260422T215912
CREATED:20221018T182437Z
LAST-MODIFIED:20221018T182438Z
UID:10017952-1793451600-1793451600@lcrbemore.co.uk
SUMMARY:REGENDA HOUSING SUPPORT
DESCRIPTION:
URL:https://lcrbemore.co.uk/events/regenda-housing-support/2026-10-31/
LOCATION:Thrive\, 21-23 Preston Street\, Liverpool\, Liverpool\, L1 6DP\, United Kingdom
ATTACH;FMTTYPE=image/jpeg:https://lcrbemore.co.uk/wp-content/uploads/2022/10/Thrive.jpg
GEO:53.408947259526;-2.9849363644176
X-APPLE-STRUCTURED-LOCATION;VALUE=URI;X-ADDRESS=Thrive 21-23 Preston Street Liverpool Liverpool L1 6DP United Kingdom;X-APPLE-RADIUS=500;X-TITLE=21-23 Preston Street:geo:-2.9849363644176,53.408947259526
END:VEVENT
BEGIN:VEVENT
DTSTART;TZID=UTC:20261101T103000
DTEND;TZID=UTC:20261101T103000
DTSTAMP:20260422T215912
CREATED:20221018T181702Z
LAST-MODIFIED:20221018T181703Z
UID:10014217-1793529000-1793529000@lcrbemore.co.uk
SUMMARY:DBS EXPERIENCE PROGRAMME
DESCRIPTION:
URL:https://lcrbemore.co.uk/events/dbs-experience-programme/2026-11-01/
LOCATION:Thrive\, 21-23 Preston Street\, Liverpool\, Liverpool\, L1 6DP\, United Kingdom
ATTACH;FMTTYPE=image/jpeg:https://lcrbemore.co.uk/wp-content/uploads/2022/10/Thrive.jpg
GEO:53.408947259526;-2.9849363644176
X-APPLE-STRUCTURED-LOCATION;VALUE=URI;X-ADDRESS=Thrive 21-23 Preston Street Liverpool Liverpool L1 6DP United Kingdom;X-APPLE-RADIUS=500;X-TITLE=21-23 Preston Street:geo:-2.9849363644176,53.408947259526
END:VEVENT
BEGIN:VEVENT
DTSTART;TZID=UTC:20261101T103000
DTEND;TZID=UTC:20261101T103000
DTSTAMP:20260422T215912
CREATED:20221018T181857Z
LAST-MODIFIED:20221018T181858Z
UID:10016115-1793529000-1793529000@lcrbemore.co.uk
SUMMARY:TRAINING WITH THE LEARNING FOUNDRY
DESCRIPTION:
URL:https://lcrbemore.co.uk/events/training-with-the-learning-foundry/2026-11-01/
LOCATION:Thrive\, 21-23 Preston Street\, Liverpool\, Liverpool\, L1 6DP\, United Kingdom
ATTACH;FMTTYPE=image/jpeg:https://lcrbemore.co.uk/wp-content/uploads/2022/10/Thrive.jpg
GEO:53.408947259526;-2.9849363644176
X-APPLE-STRUCTURED-LOCATION;VALUE=URI;X-ADDRESS=Thrive 21-23 Preston Street Liverpool Liverpool L1 6DP United Kingdom;X-APPLE-RADIUS=500;X-TITLE=21-23 Preston Street:geo:-2.9849363644176,53.408947259526
END:VEVENT
BEGIN:VEVENT
DTSTART;TZID=UTC:20261101T130000
DTEND;TZID=UTC:20261101T130000
DTSTAMP:20260422T215912
CREATED:20221018T181508Z
LAST-MODIFIED:20221018T181509Z
UID:10012506-1793538000-1793538000@lcrbemore.co.uk
SUMMARY:CV DROP IN
DESCRIPTION:
URL:https://lcrbemore.co.uk/events/cv-drop-in/2026-11-01/
LOCATION:Thrive\, 21-23 Preston Street\, Liverpool\, Liverpool\, L1 6DP\, United Kingdom
ATTACH;FMTTYPE=image/jpeg:https://lcrbemore.co.uk/wp-content/uploads/2022/10/Thrive.jpg
GEO:53.408947259526;-2.9849363644176
X-APPLE-STRUCTURED-LOCATION;VALUE=URI;X-ADDRESS=Thrive 21-23 Preston Street Liverpool Liverpool L1 6DP United Kingdom;X-APPLE-RADIUS=500;X-TITLE=21-23 Preston Street:geo:-2.9849363644176,53.408947259526
END:VEVENT
END:VCALENDAR