



BEGIN:VCALENDAR
VERSION:2.0
PRODID:-//BeMore - ECPv6.15.1//NONSGML v1.0//EN
CALSCALE:GREGORIAN
METHOD:PUBLISH
X-ORIGINAL-URL:https://lcrbemore.co.uk
X-WR-CALDESC:Events for BeMore
REFRESH-INTERVAL;VALUE=DURATION:PT1H
X-Robots-Tag:noindex
X-PUBLISHED-TTL:PT1H
BEGIN:VTIMEZONE
TZID:UTC
BEGIN:STANDARD
TZOFFSETFROM:+0000
TZOFFSETTO:+0000
TZNAME:UTC
DTSTART:20260101T000000
END:STANDARD
END:VTIMEZONE
BEGIN:VEVENT
DTSTART;TZID=UTC:20261216T130000
DTEND;TZID=UTC:20261216T130000
DTSTAMP:20260422T065940
CREATED:20221018T181508Z
LAST-MODIFIED:20221018T181509Z
UID:10012551-1797426000-1797426000@lcrbemore.co.uk
SUMMARY:CV DROP IN
DESCRIPTION:
URL:https://lcrbemore.co.uk/events/cv-drop-in/2026-12-16/
LOCATION:Thrive\, 21-23 Preston Street\, Liverpool\, Liverpool\, L1 6DP\, United Kingdom
ATTACH;FMTTYPE=image/jpeg:https://lcrbemore.co.uk/wp-content/uploads/2022/10/Thrive.jpg
GEO:53.408947259526;-2.9849363644176
X-APPLE-STRUCTURED-LOCATION;VALUE=URI;X-ADDRESS=Thrive 21-23 Preston Street Liverpool Liverpool L1 6DP United Kingdom;X-APPLE-RADIUS=500;X-TITLE=21-23 Preston Street:geo:-2.9849363644176,53.408947259526
END:VEVENT
BEGIN:VEVENT
DTSTART;TZID=UTC:20261216T130000
DTEND;TZID=UTC:20261216T130000
DTSTAMP:20260422T065940
CREATED:20221018T182437Z
LAST-MODIFIED:20221018T182438Z
UID:10017998-1797426000-1797426000@lcrbemore.co.uk
SUMMARY:REGENDA HOUSING SUPPORT
DESCRIPTION:
URL:https://lcrbemore.co.uk/events/regenda-housing-support/2026-12-16/
LOCATION:Thrive\, 21-23 Preston Street\, Liverpool\, Liverpool\, L1 6DP\, United Kingdom
ATTACH;FMTTYPE=image/jpeg:https://lcrbemore.co.uk/wp-content/uploads/2022/10/Thrive.jpg
GEO:53.408947259526;-2.9849363644176
X-APPLE-STRUCTURED-LOCATION;VALUE=URI;X-ADDRESS=Thrive 21-23 Preston Street Liverpool Liverpool L1 6DP United Kingdom;X-APPLE-RADIUS=500;X-TITLE=21-23 Preston Street:geo:-2.9849363644176,53.408947259526
END:VEVENT
BEGIN:VEVENT
DTSTART;TZID=UTC:20261216T130000
DTEND;TZID=UTC:20261216T170000
DTSTAMP:20260422T065940
CREATED:20221018T172632Z
LAST-MODIFIED:20221018T180221Z
UID:10011652-1797426000-1797440400@lcrbemore.co.uk
SUMMARY:DROP IN SESSIONS
DESCRIPTION:DWP Work Coach available to support with Universal Credit claims.
URL:https://lcrbemore.co.uk/events/drop-in-sessions/2026-12-16/
LOCATION:Merseyside Youth Association\, 65-67 Hanover Street\, Liverpool\, Liverpool\, L1 3DY\, United Kingdom
ATTACH;FMTTYPE=image/png:https://lcrbemore.co.uk/wp-content/uploads/2022/10/stock-event.png
GEO:53.404306319392;-2.9825169067472
X-APPLE-STRUCTURED-LOCATION;VALUE=URI;X-ADDRESS=Merseyside Youth Association 65-67 Hanover Street Liverpool Liverpool L1 3DY United Kingdom;X-APPLE-RADIUS=500;X-TITLE=65-67 Hanover Street:geo:-2.9825169067472,53.404306319392
END:VEVENT
BEGIN:VEVENT
DTSTART;TZID=UTC:20261216T130000
DTEND;TZID=UTC:20261216T170000
DTSTAMP:20260422T065940
CREATED:20221018T175015Z
LAST-MODIFIED:20231218T144607Z
UID:10019505-1797426000-1797440400@lcrbemore.co.uk
SUMMARY:WEDNESDAY AFTERNOONS WITH THE HUB
DESCRIPTION:Personal skills development programme for a neurodiverse cohort of 15 young people. Activities include – CV building\, employer sessions\, woodland walk and much more!
URL:https://lcrbemore.co.uk/events/wednesday-afternoons-with-the-hub-2/2026-12-16/
LOCATION:Merseyside Youth Association\, 65-67 Hanover Street\, Liverpool\, Liverpool\, L1 3DY\, United Kingdom
ATTACH;FMTTYPE=image/jpeg:https://lcrbemore.co.uk/wp-content/uploads/2022/10/Merseyside-Youth-Association.jpg
GEO:53.404306319392;-2.9825169067472
X-APPLE-STRUCTURED-LOCATION;VALUE=URI;X-ADDRESS=Merseyside Youth Association 65-67 Hanover Street Liverpool Liverpool L1 3DY United Kingdom;X-APPLE-RADIUS=500;X-TITLE=65-67 Hanover Street:geo:-2.9825169067472,53.404306319392
END:VEVENT
BEGIN:VEVENT
DTSTART;TZID=UTC:20261217T103000
DTEND;TZID=UTC:20261217T103000
DTSTAMP:20260422T065940
CREATED:20221018T181702Z
LAST-MODIFIED:20221018T181703Z
UID:10014263-1797503400-1797503400@lcrbemore.co.uk
SUMMARY:DBS EXPERIENCE PROGRAMME
DESCRIPTION:
URL:https://lcrbemore.co.uk/events/dbs-experience-programme/2026-12-17/
LOCATION:Thrive\, 21-23 Preston Street\, Liverpool\, Liverpool\, L1 6DP\, United Kingdom
ATTACH;FMTTYPE=image/jpeg:https://lcrbemore.co.uk/wp-content/uploads/2022/10/Thrive.jpg
GEO:53.408947259526;-2.9849363644176
X-APPLE-STRUCTURED-LOCATION;VALUE=URI;X-ADDRESS=Thrive 21-23 Preston Street Liverpool Liverpool L1 6DP United Kingdom;X-APPLE-RADIUS=500;X-TITLE=21-23 Preston Street:geo:-2.9849363644176,53.408947259526
END:VEVENT
BEGIN:VEVENT
DTSTART;TZID=UTC:20261217T103000
DTEND;TZID=UTC:20261217T103000
DTSTAMP:20260422T065940
CREATED:20221018T181857Z
LAST-MODIFIED:20221018T181858Z
UID:10016161-1797503400-1797503400@lcrbemore.co.uk
SUMMARY:TRAINING WITH THE LEARNING FOUNDRY
DESCRIPTION:
URL:https://lcrbemore.co.uk/events/training-with-the-learning-foundry/2026-12-17/
LOCATION:Thrive\, 21-23 Preston Street\, Liverpool\, Liverpool\, L1 6DP\, United Kingdom
ATTACH;FMTTYPE=image/jpeg:https://lcrbemore.co.uk/wp-content/uploads/2022/10/Thrive.jpg
GEO:53.408947259526;-2.9849363644176
X-APPLE-STRUCTURED-LOCATION;VALUE=URI;X-ADDRESS=Thrive 21-23 Preston Street Liverpool Liverpool L1 6DP United Kingdom;X-APPLE-RADIUS=500;X-TITLE=21-23 Preston Street:geo:-2.9849363644176,53.408947259526
END:VEVENT
BEGIN:VEVENT
DTSTART;TZID=UTC:20261217T130000
DTEND;TZID=UTC:20261217T130000
DTSTAMP:20260422T065940
CREATED:20221018T181508Z
LAST-MODIFIED:20221018T181509Z
UID:10012552-1797512400-1797512400@lcrbemore.co.uk
SUMMARY:CV DROP IN
DESCRIPTION:
URL:https://lcrbemore.co.uk/events/cv-drop-in/2026-12-17/
LOCATION:Thrive\, 21-23 Preston Street\, Liverpool\, Liverpool\, L1 6DP\, United Kingdom
ATTACH;FMTTYPE=image/jpeg:https://lcrbemore.co.uk/wp-content/uploads/2022/10/Thrive.jpg
GEO:53.408947259526;-2.9849363644176
X-APPLE-STRUCTURED-LOCATION;VALUE=URI;X-ADDRESS=Thrive 21-23 Preston Street Liverpool Liverpool L1 6DP United Kingdom;X-APPLE-RADIUS=500;X-TITLE=21-23 Preston Street:geo:-2.9849363644176,53.408947259526
END:VEVENT
BEGIN:VEVENT
DTSTART;TZID=UTC:20261217T130000
DTEND;TZID=UTC:20261217T130000
DTSTAMP:20260422T065940
CREATED:20221018T182437Z
LAST-MODIFIED:20221018T182438Z
UID:10017999-1797512400-1797512400@lcrbemore.co.uk
SUMMARY:REGENDA HOUSING SUPPORT
DESCRIPTION:
URL:https://lcrbemore.co.uk/events/regenda-housing-support/2026-12-17/
LOCATION:Thrive\, 21-23 Preston Street\, Liverpool\, Liverpool\, L1 6DP\, United Kingdom
ATTACH;FMTTYPE=image/jpeg:https://lcrbemore.co.uk/wp-content/uploads/2022/10/Thrive.jpg
GEO:53.408947259526;-2.9849363644176
X-APPLE-STRUCTURED-LOCATION;VALUE=URI;X-ADDRESS=Thrive 21-23 Preston Street Liverpool Liverpool L1 6DP United Kingdom;X-APPLE-RADIUS=500;X-TITLE=21-23 Preston Street:geo:-2.9849363644176,53.408947259526
END:VEVENT
BEGIN:VEVENT
DTSTART;TZID=UTC:20261218T000000
DTEND;TZID=UTC:20261218T235959
DTSTAMP:20260422T065940
CREATED:20221018T172012Z
LAST-MODIFIED:20221018T180345Z
UID:10011915-1797552000-1797638399@lcrbemore.co.uk
SUMMARY:CV SUPPORT
DESCRIPTION:Seetec CV Advisor attending Hub
URL:https://lcrbemore.co.uk/events/cv-support/2026-12-18/
LOCATION:Merseyside Youth Association\, 65-67 Hanover Street\, Liverpool\, Liverpool\, L1 3DY\, United Kingdom
ATTACH;FMTTYPE=image/png:https://lcrbemore.co.uk/wp-content/uploads/2022/10/stock-event.png
GEO:53.404306319392;-2.9825169067472
X-APPLE-STRUCTURED-LOCATION;VALUE=URI;X-ADDRESS=Merseyside Youth Association 65-67 Hanover Street Liverpool Liverpool L1 3DY United Kingdom;X-APPLE-RADIUS=500;X-TITLE=65-67 Hanover Street:geo:-2.9825169067472,53.404306319392
END:VEVENT
BEGIN:VEVENT
DTSTART;TZID=UTC:20261218T090000
DTEND;TZID=UTC:20261218T163000
DTSTAMP:20260422T065940
CREATED:20240722T073752Z
LAST-MODIFIED:20240722T073753Z
UID:10020973-1797584400-1797611400@lcrbemore.co.uk
SUMMARY:SEETEC: IAG/CV CREATION
DESCRIPTION:Hourly appointments to help you create a stunning CV.
URL:https://lcrbemore.co.uk/events/seetec-iag-cv-creation/2026-12-18/
LOCATION:Merseyside Youth Association\, 65-67 Hanover Street\, Liverpool\, Liverpool\, L1 3DY\, United Kingdom
ATTACH;FMTTYPE=image/png:https://lcrbemore.co.uk/wp-content/uploads/2023/01/Screenshot-2023-01-17-at-11.32.34.png
GEO:53.404306319392;-2.9825169067472
X-APPLE-STRUCTURED-LOCATION;VALUE=URI;X-ADDRESS=Merseyside Youth Association 65-67 Hanover Street Liverpool Liverpool L1 3DY United Kingdom;X-APPLE-RADIUS=500;X-TITLE=65-67 Hanover Street:geo:-2.9825169067472,53.404306319392
END:VEVENT
BEGIN:VEVENT
DTSTART;TZID=UTC:20261218T103000
DTEND;TZID=UTC:20261218T103000
DTSTAMP:20260422T065940
CREATED:20221018T181702Z
LAST-MODIFIED:20221018T181703Z
UID:10014264-1797589800-1797589800@lcrbemore.co.uk
SUMMARY:DBS EXPERIENCE PROGRAMME
DESCRIPTION:
URL:https://lcrbemore.co.uk/events/dbs-experience-programme/2026-12-18/
LOCATION:Thrive\, 21-23 Preston Street\, Liverpool\, Liverpool\, L1 6DP\, United Kingdom
ATTACH;FMTTYPE=image/jpeg:https://lcrbemore.co.uk/wp-content/uploads/2022/10/Thrive.jpg
GEO:53.408947259526;-2.9849363644176
X-APPLE-STRUCTURED-LOCATION;VALUE=URI;X-ADDRESS=Thrive 21-23 Preston Street Liverpool Liverpool L1 6DP United Kingdom;X-APPLE-RADIUS=500;X-TITLE=21-23 Preston Street:geo:-2.9849363644176,53.408947259526
END:VEVENT
BEGIN:VEVENT
DTSTART;TZID=UTC:20261218T103000
DTEND;TZID=UTC:20261218T103000
DTSTAMP:20260422T065940
CREATED:20221018T181857Z
LAST-MODIFIED:20221018T181858Z
UID:10016162-1797589800-1797589800@lcrbemore.co.uk
SUMMARY:TRAINING WITH THE LEARNING FOUNDRY
DESCRIPTION:
URL:https://lcrbemore.co.uk/events/training-with-the-learning-foundry/2026-12-18/
LOCATION:Thrive\, 21-23 Preston Street\, Liverpool\, Liverpool\, L1 6DP\, United Kingdom
ATTACH;FMTTYPE=image/jpeg:https://lcrbemore.co.uk/wp-content/uploads/2022/10/Thrive.jpg
GEO:53.408947259526;-2.9849363644176
X-APPLE-STRUCTURED-LOCATION;VALUE=URI;X-ADDRESS=Thrive 21-23 Preston Street Liverpool Liverpool L1 6DP United Kingdom;X-APPLE-RADIUS=500;X-TITLE=21-23 Preston Street:geo:-2.9849363644176,53.408947259526
END:VEVENT
BEGIN:VEVENT
DTSTART;TZID=UTC:20261218T130000
DTEND;TZID=UTC:20261218T130000
DTSTAMP:20260422T065940
CREATED:20221018T181508Z
LAST-MODIFIED:20221018T181509Z
UID:10012553-1797598800-1797598800@lcrbemore.co.uk
SUMMARY:CV DROP IN
DESCRIPTION:
URL:https://lcrbemore.co.uk/events/cv-drop-in/2026-12-18/
LOCATION:Thrive\, 21-23 Preston Street\, Liverpool\, Liverpool\, L1 6DP\, United Kingdom
ATTACH;FMTTYPE=image/jpeg:https://lcrbemore.co.uk/wp-content/uploads/2022/10/Thrive.jpg
GEO:53.408947259526;-2.9849363644176
X-APPLE-STRUCTURED-LOCATION;VALUE=URI;X-ADDRESS=Thrive 21-23 Preston Street Liverpool Liverpool L1 6DP United Kingdom;X-APPLE-RADIUS=500;X-TITLE=21-23 Preston Street:geo:-2.9849363644176,53.408947259526
END:VEVENT
BEGIN:VEVENT
DTSTART;TZID=UTC:20261218T130000
DTEND;TZID=UTC:20261218T130000
DTSTAMP:20260422T065940
CREATED:20221018T182437Z
LAST-MODIFIED:20221018T182438Z
UID:10018000-1797598800-1797598800@lcrbemore.co.uk
SUMMARY:REGENDA HOUSING SUPPORT
DESCRIPTION:
URL:https://lcrbemore.co.uk/events/regenda-housing-support/2026-12-18/
LOCATION:Thrive\, 21-23 Preston Street\, Liverpool\, Liverpool\, L1 6DP\, United Kingdom
ATTACH;FMTTYPE=image/jpeg:https://lcrbemore.co.uk/wp-content/uploads/2022/10/Thrive.jpg
GEO:53.408947259526;-2.9849363644176
X-APPLE-STRUCTURED-LOCATION;VALUE=URI;X-ADDRESS=Thrive 21-23 Preston Street Liverpool Liverpool L1 6DP United Kingdom;X-APPLE-RADIUS=500;X-TITLE=21-23 Preston Street:geo:-2.9849363644176,53.408947259526
END:VEVENT
BEGIN:VEVENT
DTSTART;TZID=UTC:20261219T100000
DTEND;TZID=UTC:20261219T120000
DTSTAMP:20260422T065940
CREATED:20240510T110847Z
LAST-MODIFIED:20240510T110848Z
UID:10020109-1797674400-1797681600@lcrbemore.co.uk
SUMMARY:JUNIOR ARTS SMART
DESCRIPTION:For young people who are children in Care aged between 8-14 years  \n\n\n\nWirral Youth Voice Projects enable young people to have a voice and influence providers\, in Wirral and beyond. \n\n\n\nThese groups work on the annual Wirral Youth Conference and Parliament \n\n\n\nFor more details contact Seline Wakerley – selinewakerley@wirral.gov.uk
URL:https://lcrbemore.co.uk/events/junior-arts-smart/2026-12-19/
LOCATION:Pilgrim Street Arts Centre\, 1 Pilgrim Street\, Birkenhead\, CH41 5EH\, United Kingdom
ATTACH;FMTTYPE=image/jpeg:https://lcrbemore.co.uk/wp-content/uploads/2024/05/YOUTH-VOICE-WIRRAL.jpg
END:VEVENT
BEGIN:VEVENT
DTSTART;TZID=UTC:20261219T103000
DTEND;TZID=UTC:20261219T103000
DTSTAMP:20260422T065940
CREATED:20221018T181702Z
LAST-MODIFIED:20221018T181703Z
UID:10014265-1797676200-1797676200@lcrbemore.co.uk
SUMMARY:DBS EXPERIENCE PROGRAMME
DESCRIPTION:
URL:https://lcrbemore.co.uk/events/dbs-experience-programme/2026-12-19/
LOCATION:Thrive\, 21-23 Preston Street\, Liverpool\, Liverpool\, L1 6DP\, United Kingdom
ATTACH;FMTTYPE=image/jpeg:https://lcrbemore.co.uk/wp-content/uploads/2022/10/Thrive.jpg
GEO:53.408947259526;-2.9849363644176
X-APPLE-STRUCTURED-LOCATION;VALUE=URI;X-ADDRESS=Thrive 21-23 Preston Street Liverpool Liverpool L1 6DP United Kingdom;X-APPLE-RADIUS=500;X-TITLE=21-23 Preston Street:geo:-2.9849363644176,53.408947259526
END:VEVENT
BEGIN:VEVENT
DTSTART;TZID=UTC:20261219T103000
DTEND;TZID=UTC:20261219T103000
DTSTAMP:20260422T065940
CREATED:20221018T181857Z
LAST-MODIFIED:20221018T181858Z
UID:10016163-1797676200-1797676200@lcrbemore.co.uk
SUMMARY:TRAINING WITH THE LEARNING FOUNDRY
DESCRIPTION:
URL:https://lcrbemore.co.uk/events/training-with-the-learning-foundry/2026-12-19/
LOCATION:Thrive\, 21-23 Preston Street\, Liverpool\, Liverpool\, L1 6DP\, United Kingdom
ATTACH;FMTTYPE=image/jpeg:https://lcrbemore.co.uk/wp-content/uploads/2022/10/Thrive.jpg
GEO:53.408947259526;-2.9849363644176
X-APPLE-STRUCTURED-LOCATION;VALUE=URI;X-ADDRESS=Thrive 21-23 Preston Street Liverpool Liverpool L1 6DP United Kingdom;X-APPLE-RADIUS=500;X-TITLE=21-23 Preston Street:geo:-2.9849363644176,53.408947259526
END:VEVENT
BEGIN:VEVENT
DTSTART;TZID=UTC:20261219T130000
DTEND;TZID=UTC:20261219T130000
DTSTAMP:20260422T065940
CREATED:20221018T181508Z
LAST-MODIFIED:20221018T181509Z
UID:10012554-1797685200-1797685200@lcrbemore.co.uk
SUMMARY:CV DROP IN
DESCRIPTION:
URL:https://lcrbemore.co.uk/events/cv-drop-in/2026-12-19/
LOCATION:Thrive\, 21-23 Preston Street\, Liverpool\, Liverpool\, L1 6DP\, United Kingdom
ATTACH;FMTTYPE=image/jpeg:https://lcrbemore.co.uk/wp-content/uploads/2022/10/Thrive.jpg
GEO:53.408947259526;-2.9849363644176
X-APPLE-STRUCTURED-LOCATION;VALUE=URI;X-ADDRESS=Thrive 21-23 Preston Street Liverpool Liverpool L1 6DP United Kingdom;X-APPLE-RADIUS=500;X-TITLE=21-23 Preston Street:geo:-2.9849363644176,53.408947259526
END:VEVENT
BEGIN:VEVENT
DTSTART;TZID=UTC:20261219T130000
DTEND;TZID=UTC:20261219T130000
DTSTAMP:20260422T065940
CREATED:20221018T182437Z
LAST-MODIFIED:20221018T182438Z
UID:10018001-1797685200-1797685200@lcrbemore.co.uk
SUMMARY:REGENDA HOUSING SUPPORT
DESCRIPTION:
URL:https://lcrbemore.co.uk/events/regenda-housing-support/2026-12-19/
LOCATION:Thrive\, 21-23 Preston Street\, Liverpool\, Liverpool\, L1 6DP\, United Kingdom
ATTACH;FMTTYPE=image/jpeg:https://lcrbemore.co.uk/wp-content/uploads/2022/10/Thrive.jpg
GEO:53.408947259526;-2.9849363644176
X-APPLE-STRUCTURED-LOCATION;VALUE=URI;X-ADDRESS=Thrive 21-23 Preston Street Liverpool Liverpool L1 6DP United Kingdom;X-APPLE-RADIUS=500;X-TITLE=21-23 Preston Street:geo:-2.9849363644176,53.408947259526
END:VEVENT
BEGIN:VEVENT
DTSTART;TZID=UTC:20261220T103000
DTEND;TZID=UTC:20261220T103000
DTSTAMP:20260422T065940
CREATED:20221018T181702Z
LAST-MODIFIED:20221018T181703Z
UID:10014266-1797762600-1797762600@lcrbemore.co.uk
SUMMARY:DBS EXPERIENCE PROGRAMME
DESCRIPTION:
URL:https://lcrbemore.co.uk/events/dbs-experience-programme/2026-12-20/
LOCATION:Thrive\, 21-23 Preston Street\, Liverpool\, Liverpool\, L1 6DP\, United Kingdom
ATTACH;FMTTYPE=image/jpeg:https://lcrbemore.co.uk/wp-content/uploads/2022/10/Thrive.jpg
GEO:53.408947259526;-2.9849363644176
X-APPLE-STRUCTURED-LOCATION;VALUE=URI;X-ADDRESS=Thrive 21-23 Preston Street Liverpool Liverpool L1 6DP United Kingdom;X-APPLE-RADIUS=500;X-TITLE=21-23 Preston Street:geo:-2.9849363644176,53.408947259526
END:VEVENT
BEGIN:VEVENT
DTSTART;TZID=UTC:20261220T103000
DTEND;TZID=UTC:20261220T103000
DTSTAMP:20260422T065940
CREATED:20221018T181857Z
LAST-MODIFIED:20221018T181858Z
UID:10016164-1797762600-1797762600@lcrbemore.co.uk
SUMMARY:TRAINING WITH THE LEARNING FOUNDRY
DESCRIPTION:
URL:https://lcrbemore.co.uk/events/training-with-the-learning-foundry/2026-12-20/
LOCATION:Thrive\, 21-23 Preston Street\, Liverpool\, Liverpool\, L1 6DP\, United Kingdom
ATTACH;FMTTYPE=image/jpeg:https://lcrbemore.co.uk/wp-content/uploads/2022/10/Thrive.jpg
GEO:53.408947259526;-2.9849363644176
X-APPLE-STRUCTURED-LOCATION;VALUE=URI;X-ADDRESS=Thrive 21-23 Preston Street Liverpool Liverpool L1 6DP United Kingdom;X-APPLE-RADIUS=500;X-TITLE=21-23 Preston Street:geo:-2.9849363644176,53.408947259526
END:VEVENT
BEGIN:VEVENT
DTSTART;TZID=UTC:20261220T130000
DTEND;TZID=UTC:20261220T130000
DTSTAMP:20260422T065940
CREATED:20221018T181508Z
LAST-MODIFIED:20221018T181509Z
UID:10012555-1797771600-1797771600@lcrbemore.co.uk
SUMMARY:CV DROP IN
DESCRIPTION:
URL:https://lcrbemore.co.uk/events/cv-drop-in/2026-12-20/
LOCATION:Thrive\, 21-23 Preston Street\, Liverpool\, Liverpool\, L1 6DP\, United Kingdom
ATTACH;FMTTYPE=image/jpeg:https://lcrbemore.co.uk/wp-content/uploads/2022/10/Thrive.jpg
GEO:53.408947259526;-2.9849363644176
X-APPLE-STRUCTURED-LOCATION;VALUE=URI;X-ADDRESS=Thrive 21-23 Preston Street Liverpool Liverpool L1 6DP United Kingdom;X-APPLE-RADIUS=500;X-TITLE=21-23 Preston Street:geo:-2.9849363644176,53.408947259526
END:VEVENT
BEGIN:VEVENT
DTSTART;TZID=UTC:20261220T130000
DTEND;TZID=UTC:20261220T130000
DTSTAMP:20260422T065940
CREATED:20221018T182437Z
LAST-MODIFIED:20221018T182438Z
UID:10018002-1797771600-1797771600@lcrbemore.co.uk
SUMMARY:REGENDA HOUSING SUPPORT
DESCRIPTION:
URL:https://lcrbemore.co.uk/events/regenda-housing-support/2026-12-20/
LOCATION:Thrive\, 21-23 Preston Street\, Liverpool\, Liverpool\, L1 6DP\, United Kingdom
ATTACH;FMTTYPE=image/jpeg:https://lcrbemore.co.uk/wp-content/uploads/2022/10/Thrive.jpg
GEO:53.408947259526;-2.9849363644176
X-APPLE-STRUCTURED-LOCATION;VALUE=URI;X-ADDRESS=Thrive 21-23 Preston Street Liverpool Liverpool L1 6DP United Kingdom;X-APPLE-RADIUS=500;X-TITLE=21-23 Preston Street:geo:-2.9849363644176,53.408947259526
END:VEVENT
BEGIN:VEVENT
DTSTART;TZID=UTC:20261221T103000
DTEND;TZID=UTC:20261221T103000
DTSTAMP:20260422T065940
CREATED:20221018T181702Z
LAST-MODIFIED:20221018T181703Z
UID:10014267-1797849000-1797849000@lcrbemore.co.uk
SUMMARY:DBS EXPERIENCE PROGRAMME
DESCRIPTION:
URL:https://lcrbemore.co.uk/events/dbs-experience-programme/2026-12-21/
LOCATION:Thrive\, 21-23 Preston Street\, Liverpool\, Liverpool\, L1 6DP\, United Kingdom
ATTACH;FMTTYPE=image/jpeg:https://lcrbemore.co.uk/wp-content/uploads/2022/10/Thrive.jpg
GEO:53.408947259526;-2.9849363644176
X-APPLE-STRUCTURED-LOCATION;VALUE=URI;X-ADDRESS=Thrive 21-23 Preston Street Liverpool Liverpool L1 6DP United Kingdom;X-APPLE-RADIUS=500;X-TITLE=21-23 Preston Street:geo:-2.9849363644176,53.408947259526
END:VEVENT
BEGIN:VEVENT
DTSTART;TZID=UTC:20261221T103000
DTEND;TZID=UTC:20261221T103000
DTSTAMP:20260422T065940
CREATED:20221018T181857Z
LAST-MODIFIED:20221018T181858Z
UID:10016165-1797849000-1797849000@lcrbemore.co.uk
SUMMARY:TRAINING WITH THE LEARNING FOUNDRY
DESCRIPTION:
URL:https://lcrbemore.co.uk/events/training-with-the-learning-foundry/2026-12-21/
LOCATION:Thrive\, 21-23 Preston Street\, Liverpool\, Liverpool\, L1 6DP\, United Kingdom
ATTACH;FMTTYPE=image/jpeg:https://lcrbemore.co.uk/wp-content/uploads/2022/10/Thrive.jpg
GEO:53.408947259526;-2.9849363644176
X-APPLE-STRUCTURED-LOCATION;VALUE=URI;X-ADDRESS=Thrive 21-23 Preston Street Liverpool Liverpool L1 6DP United Kingdom;X-APPLE-RADIUS=500;X-TITLE=21-23 Preston Street:geo:-2.9849363644176,53.408947259526
END:VEVENT
BEGIN:VEVENT
DTSTART;TZID=UTC:20261221T130000
DTEND;TZID=UTC:20261221T130000
DTSTAMP:20260422T065940
CREATED:20221018T181508Z
LAST-MODIFIED:20221018T181509Z
UID:10012556-1797858000-1797858000@lcrbemore.co.uk
SUMMARY:CV DROP IN
DESCRIPTION:
URL:https://lcrbemore.co.uk/events/cv-drop-in/2026-12-21/
LOCATION:Thrive\, 21-23 Preston Street\, Liverpool\, Liverpool\, L1 6DP\, United Kingdom
ATTACH;FMTTYPE=image/jpeg:https://lcrbemore.co.uk/wp-content/uploads/2022/10/Thrive.jpg
GEO:53.408947259526;-2.9849363644176
X-APPLE-STRUCTURED-LOCATION;VALUE=URI;X-ADDRESS=Thrive 21-23 Preston Street Liverpool Liverpool L1 6DP United Kingdom;X-APPLE-RADIUS=500;X-TITLE=21-23 Preston Street:geo:-2.9849363644176,53.408947259526
END:VEVENT
BEGIN:VEVENT
DTSTART;TZID=UTC:20261221T130000
DTEND;TZID=UTC:20261221T130000
DTSTAMP:20260422T065940
CREATED:20221018T182437Z
LAST-MODIFIED:20221018T182438Z
UID:10018003-1797858000-1797858000@lcrbemore.co.uk
SUMMARY:REGENDA HOUSING SUPPORT
DESCRIPTION:
URL:https://lcrbemore.co.uk/events/regenda-housing-support/2026-12-21/
LOCATION:Thrive\, 21-23 Preston Street\, Liverpool\, Liverpool\, L1 6DP\, United Kingdom
ATTACH;FMTTYPE=image/jpeg:https://lcrbemore.co.uk/wp-content/uploads/2022/10/Thrive.jpg
GEO:53.408947259526;-2.9849363644176
X-APPLE-STRUCTURED-LOCATION;VALUE=URI;X-ADDRESS=Thrive 21-23 Preston Street Liverpool Liverpool L1 6DP United Kingdom;X-APPLE-RADIUS=500;X-TITLE=21-23 Preston Street:geo:-2.9849363644176,53.408947259526
END:VEVENT
BEGIN:VEVENT
DTSTART;TZID=UTC:20261221T170000
DTEND;TZID=UTC:20261221T183000
DTSTAMP:20260422T065940
CREATED:20240510T105800Z
LAST-MODIFIED:20240510T105802Z
UID:10020355-1797872400-1797877800@lcrbemore.co.uk
SUMMARY:YOUTH VOICE PROJECTS
DESCRIPTION:Wirral Youth Voice Projects enable young people to have a voice and influence providers\, in Wirral and beyond.  \n\n\n\nThese groups work on the annual Wirral Youth Conference and Parliament  \n\n\n\n11-19yrs (up to 25 for SEND/CIC/ND) \n\n\n\nFor more details contact Seline Wakerley – selinewakerley@wirral.gov.uk
URL:https://lcrbemore.co.uk/events/youth-voice-projects/2026-12-21/
LOCATION:Pilgrim Street Arts Centre\, 1 Pilgrim Street\, Birkenhead\, CH41 5EH\, United Kingdom
ATTACH;FMTTYPE=image/jpeg:https://lcrbemore.co.uk/wp-content/uploads/2024/05/YOUTH-VOICE-WIRRAL.jpg
END:VEVENT
BEGIN:VEVENT
DTSTART;TZID=UTC:20261222T103000
DTEND;TZID=UTC:20261222T103000
DTSTAMP:20260422T065940
CREATED:20221018T181702Z
LAST-MODIFIED:20221018T181703Z
UID:10014268-1797935400-1797935400@lcrbemore.co.uk
SUMMARY:DBS EXPERIENCE PROGRAMME
DESCRIPTION:
URL:https://lcrbemore.co.uk/events/dbs-experience-programme/2026-12-22/
LOCATION:Thrive\, 21-23 Preston Street\, Liverpool\, Liverpool\, L1 6DP\, United Kingdom
ATTACH;FMTTYPE=image/jpeg:https://lcrbemore.co.uk/wp-content/uploads/2022/10/Thrive.jpg
GEO:53.408947259526;-2.9849363644176
X-APPLE-STRUCTURED-LOCATION;VALUE=URI;X-ADDRESS=Thrive 21-23 Preston Street Liverpool Liverpool L1 6DP United Kingdom;X-APPLE-RADIUS=500;X-TITLE=21-23 Preston Street:geo:-2.9849363644176,53.408947259526
END:VEVENT
BEGIN:VEVENT
DTSTART;TZID=UTC:20261222T103000
DTEND;TZID=UTC:20261222T103000
DTSTAMP:20260422T065940
CREATED:20221018T181857Z
LAST-MODIFIED:20221018T181858Z
UID:10016166-1797935400-1797935400@lcrbemore.co.uk
SUMMARY:TRAINING WITH THE LEARNING FOUNDRY
DESCRIPTION:
URL:https://lcrbemore.co.uk/events/training-with-the-learning-foundry/2026-12-22/
LOCATION:Thrive\, 21-23 Preston Street\, Liverpool\, Liverpool\, L1 6DP\, United Kingdom
ATTACH;FMTTYPE=image/jpeg:https://lcrbemore.co.uk/wp-content/uploads/2022/10/Thrive.jpg
GEO:53.408947259526;-2.9849363644176
X-APPLE-STRUCTURED-LOCATION;VALUE=URI;X-ADDRESS=Thrive 21-23 Preston Street Liverpool Liverpool L1 6DP United Kingdom;X-APPLE-RADIUS=500;X-TITLE=21-23 Preston Street:geo:-2.9849363644176,53.408947259526
END:VEVENT
END:VCALENDAR