



BEGIN:VCALENDAR
VERSION:2.0
PRODID:-//BeMore - ECPv6.15.1//NONSGML v1.0//EN
CALSCALE:GREGORIAN
METHOD:PUBLISH
X-ORIGINAL-URL:https://lcrbemore.co.uk
X-WR-CALDESC:Events for BeMore
REFRESH-INTERVAL;VALUE=DURATION:PT1H
X-Robots-Tag:noindex
X-PUBLISHED-TTL:PT1H
BEGIN:VTIMEZONE
TZID:UTC
BEGIN:STANDARD
TZOFFSETFROM:+0000
TZOFFSETTO:+0000
TZNAME:UTC
DTSTART:20280101T000000
END:STANDARD
END:VTIMEZONE
BEGIN:VEVENT
DTSTART;TZID=UTC:20280323T103000
DTEND;TZID=UTC:20280323T103000
DTSTAMP:20260425T221804
CREATED:20221018T181702Z
LAST-MODIFIED:20221018T181703Z
UID:10014725-1837420200-1837420200@lcrbemore.co.uk
SUMMARY:DBS EXPERIENCE PROGRAMME
DESCRIPTION:
URL:https://lcrbemore.co.uk/events/dbs-experience-programme/2028-03-23/
LOCATION:Thrive\, 21-23 Preston Street\, Liverpool\, Liverpool\, L1 6DP\, United Kingdom
ATTACH;FMTTYPE=image/jpeg:https://lcrbemore.co.uk/wp-content/uploads/2022/10/Thrive.jpg
GEO:53.408947259526;-2.9849363644176
X-APPLE-STRUCTURED-LOCATION;VALUE=URI;X-ADDRESS=Thrive 21-23 Preston Street Liverpool Liverpool L1 6DP United Kingdom;X-APPLE-RADIUS=500;X-TITLE=21-23 Preston Street:geo:-2.9849363644176,53.408947259526
END:VEVENT
BEGIN:VEVENT
DTSTART;TZID=UTC:20280323T103000
DTEND;TZID=UTC:20280323T103000
DTSTAMP:20260425T221804
CREATED:20221018T181857Z
LAST-MODIFIED:20221018T181858Z
UID:10016623-1837420200-1837420200@lcrbemore.co.uk
SUMMARY:TRAINING WITH THE LEARNING FOUNDRY
DESCRIPTION:
URL:https://lcrbemore.co.uk/events/training-with-the-learning-foundry/2028-03-23/
LOCATION:Thrive\, 21-23 Preston Street\, Liverpool\, Liverpool\, L1 6DP\, United Kingdom
ATTACH;FMTTYPE=image/jpeg:https://lcrbemore.co.uk/wp-content/uploads/2022/10/Thrive.jpg
GEO:53.408947259526;-2.9849363644176
X-APPLE-STRUCTURED-LOCATION;VALUE=URI;X-ADDRESS=Thrive 21-23 Preston Street Liverpool Liverpool L1 6DP United Kingdom;X-APPLE-RADIUS=500;X-TITLE=21-23 Preston Street:geo:-2.9849363644176,53.408947259526
END:VEVENT
BEGIN:VEVENT
DTSTART;TZID=UTC:20280323T130000
DTEND;TZID=UTC:20280323T130000
DTSTAMP:20260425T221804
CREATED:20221018T181508Z
LAST-MODIFIED:20221018T181509Z
UID:10013014-1837429200-1837429200@lcrbemore.co.uk
SUMMARY:CV DROP IN
DESCRIPTION:
URL:https://lcrbemore.co.uk/events/cv-drop-in/2028-03-23/
LOCATION:Thrive\, 21-23 Preston Street\, Liverpool\, Liverpool\, L1 6DP\, United Kingdom
ATTACH;FMTTYPE=image/jpeg:https://lcrbemore.co.uk/wp-content/uploads/2022/10/Thrive.jpg
GEO:53.408947259526;-2.9849363644176
X-APPLE-STRUCTURED-LOCATION;VALUE=URI;X-ADDRESS=Thrive 21-23 Preston Street Liverpool Liverpool L1 6DP United Kingdom;X-APPLE-RADIUS=500;X-TITLE=21-23 Preston Street:geo:-2.9849363644176,53.408947259526
END:VEVENT
BEGIN:VEVENT
DTSTART;TZID=UTC:20280323T130000
DTEND;TZID=UTC:20280323T130000
DTSTAMP:20260425T221804
CREATED:20221018T182437Z
LAST-MODIFIED:20221018T182438Z
UID:10018461-1837429200-1837429200@lcrbemore.co.uk
SUMMARY:REGENDA HOUSING SUPPORT
DESCRIPTION:
URL:https://lcrbemore.co.uk/events/regenda-housing-support/2028-03-23/
LOCATION:Thrive\, 21-23 Preston Street\, Liverpool\, Liverpool\, L1 6DP\, United Kingdom
ATTACH;FMTTYPE=image/jpeg:https://lcrbemore.co.uk/wp-content/uploads/2022/10/Thrive.jpg
GEO:53.408947259526;-2.9849363644176
X-APPLE-STRUCTURED-LOCATION;VALUE=URI;X-ADDRESS=Thrive 21-23 Preston Street Liverpool Liverpool L1 6DP United Kingdom;X-APPLE-RADIUS=500;X-TITLE=21-23 Preston Street:geo:-2.9849363644176,53.408947259526
END:VEVENT
BEGIN:VEVENT
DTSTART;TZID=UTC:20280324T000000
DTEND;TZID=UTC:20280324T235959
DTSTAMP:20260425T221804
CREATED:20221018T172012Z
LAST-MODIFIED:20221018T180345Z
UID:10011981-1837468800-1837555199@lcrbemore.co.uk
SUMMARY:CV SUPPORT
DESCRIPTION:Seetec CV Advisor attending Hub
URL:https://lcrbemore.co.uk/events/cv-support/2028-03-24/
LOCATION:Merseyside Youth Association\, 65-67 Hanover Street\, Liverpool\, Liverpool\, L1 3DY\, United Kingdom
ATTACH;FMTTYPE=image/png:https://lcrbemore.co.uk/wp-content/uploads/2022/10/stock-event.png
GEO:53.404306319392;-2.9825169067472
X-APPLE-STRUCTURED-LOCATION;VALUE=URI;X-ADDRESS=Merseyside Youth Association 65-67 Hanover Street Liverpool Liverpool L1 3DY United Kingdom;X-APPLE-RADIUS=500;X-TITLE=65-67 Hanover Street:geo:-2.9825169067472,53.404306319392
END:VEVENT
BEGIN:VEVENT
DTSTART;TZID=UTC:20280324T090000
DTEND;TZID=UTC:20280324T163000
DTSTAMP:20260425T221804
CREATED:20240722T073752Z
LAST-MODIFIED:20240722T073753Z
UID:10021039-1837501200-1837528200@lcrbemore.co.uk
SUMMARY:SEETEC: IAG/CV CREATION
DESCRIPTION:Hourly appointments to help you create a stunning CV.
URL:https://lcrbemore.co.uk/events/seetec-iag-cv-creation/2028-03-24/
LOCATION:Merseyside Youth Association\, 65-67 Hanover Street\, Liverpool\, Liverpool\, L1 3DY\, United Kingdom
ATTACH;FMTTYPE=image/png:https://lcrbemore.co.uk/wp-content/uploads/2023/01/Screenshot-2023-01-17-at-11.32.34.png
GEO:53.404306319392;-2.9825169067472
X-APPLE-STRUCTURED-LOCATION;VALUE=URI;X-ADDRESS=Merseyside Youth Association 65-67 Hanover Street Liverpool Liverpool L1 3DY United Kingdom;X-APPLE-RADIUS=500;X-TITLE=65-67 Hanover Street:geo:-2.9825169067472,53.404306319392
END:VEVENT
BEGIN:VEVENT
DTSTART;TZID=UTC:20280324T103000
DTEND;TZID=UTC:20280324T103000
DTSTAMP:20260425T221804
CREATED:20221018T181702Z
LAST-MODIFIED:20221018T181703Z
UID:10014726-1837506600-1837506600@lcrbemore.co.uk
SUMMARY:DBS EXPERIENCE PROGRAMME
DESCRIPTION:
URL:https://lcrbemore.co.uk/events/dbs-experience-programme/2028-03-24/
LOCATION:Thrive\, 21-23 Preston Street\, Liverpool\, Liverpool\, L1 6DP\, United Kingdom
ATTACH;FMTTYPE=image/jpeg:https://lcrbemore.co.uk/wp-content/uploads/2022/10/Thrive.jpg
GEO:53.408947259526;-2.9849363644176
X-APPLE-STRUCTURED-LOCATION;VALUE=URI;X-ADDRESS=Thrive 21-23 Preston Street Liverpool Liverpool L1 6DP United Kingdom;X-APPLE-RADIUS=500;X-TITLE=21-23 Preston Street:geo:-2.9849363644176,53.408947259526
END:VEVENT
BEGIN:VEVENT
DTSTART;TZID=UTC:20280324T103000
DTEND;TZID=UTC:20280324T103000
DTSTAMP:20260425T221804
CREATED:20221018T181857Z
LAST-MODIFIED:20221018T181858Z
UID:10016624-1837506600-1837506600@lcrbemore.co.uk
SUMMARY:TRAINING WITH THE LEARNING FOUNDRY
DESCRIPTION:
URL:https://lcrbemore.co.uk/events/training-with-the-learning-foundry/2028-03-24/
LOCATION:Thrive\, 21-23 Preston Street\, Liverpool\, Liverpool\, L1 6DP\, United Kingdom
ATTACH;FMTTYPE=image/jpeg:https://lcrbemore.co.uk/wp-content/uploads/2022/10/Thrive.jpg
GEO:53.408947259526;-2.9849363644176
X-APPLE-STRUCTURED-LOCATION;VALUE=URI;X-ADDRESS=Thrive 21-23 Preston Street Liverpool Liverpool L1 6DP United Kingdom;X-APPLE-RADIUS=500;X-TITLE=21-23 Preston Street:geo:-2.9849363644176,53.408947259526
END:VEVENT
BEGIN:VEVENT
DTSTART;TZID=UTC:20280324T130000
DTEND;TZID=UTC:20280324T130000
DTSTAMP:20260425T221804
CREATED:20221018T181508Z
LAST-MODIFIED:20221018T181509Z
UID:10013015-1837515600-1837515600@lcrbemore.co.uk
SUMMARY:CV DROP IN
DESCRIPTION:
URL:https://lcrbemore.co.uk/events/cv-drop-in/2028-03-24/
LOCATION:Thrive\, 21-23 Preston Street\, Liverpool\, Liverpool\, L1 6DP\, United Kingdom
ATTACH;FMTTYPE=image/jpeg:https://lcrbemore.co.uk/wp-content/uploads/2022/10/Thrive.jpg
GEO:53.408947259526;-2.9849363644176
X-APPLE-STRUCTURED-LOCATION;VALUE=URI;X-ADDRESS=Thrive 21-23 Preston Street Liverpool Liverpool L1 6DP United Kingdom;X-APPLE-RADIUS=500;X-TITLE=21-23 Preston Street:geo:-2.9849363644176,53.408947259526
END:VEVENT
BEGIN:VEVENT
DTSTART;TZID=UTC:20280324T130000
DTEND;TZID=UTC:20280324T130000
DTSTAMP:20260425T221804
CREATED:20221018T182437Z
LAST-MODIFIED:20221018T182438Z
UID:10018462-1837515600-1837515600@lcrbemore.co.uk
SUMMARY:REGENDA HOUSING SUPPORT
DESCRIPTION:
URL:https://lcrbemore.co.uk/events/regenda-housing-support/2028-03-24/
LOCATION:Thrive\, 21-23 Preston Street\, Liverpool\, Liverpool\, L1 6DP\, United Kingdom
ATTACH;FMTTYPE=image/jpeg:https://lcrbemore.co.uk/wp-content/uploads/2022/10/Thrive.jpg
GEO:53.408947259526;-2.9849363644176
X-APPLE-STRUCTURED-LOCATION;VALUE=URI;X-ADDRESS=Thrive 21-23 Preston Street Liverpool Liverpool L1 6DP United Kingdom;X-APPLE-RADIUS=500;X-TITLE=21-23 Preston Street:geo:-2.9849363644176,53.408947259526
END:VEVENT
BEGIN:VEVENT
DTSTART;TZID=UTC:20280325T100000
DTEND;TZID=UTC:20280325T120000
DTSTAMP:20260425T221804
CREATED:20240510T110847Z
LAST-MODIFIED:20240510T110848Z
UID:10020175-1837591200-1837598400@lcrbemore.co.uk
SUMMARY:JUNIOR ARTS SMART
DESCRIPTION:For young people who are children in Care aged between 8-14 years  \n\n\n\nWirral Youth Voice Projects enable young people to have a voice and influence providers\, in Wirral and beyond. \n\n\n\nThese groups work on the annual Wirral Youth Conference and Parliament \n\n\n\nFor more details contact Seline Wakerley – selinewakerley@wirral.gov.uk
URL:https://lcrbemore.co.uk/events/junior-arts-smart/2028-03-25/
LOCATION:Pilgrim Street Arts Centre\, 1 Pilgrim Street\, Birkenhead\, CH41 5EH\, United Kingdom
ATTACH;FMTTYPE=image/jpeg:https://lcrbemore.co.uk/wp-content/uploads/2024/05/YOUTH-VOICE-WIRRAL.jpg
END:VEVENT
BEGIN:VEVENT
DTSTART;TZID=UTC:20280325T103000
DTEND;TZID=UTC:20280325T103000
DTSTAMP:20260425T221804
CREATED:20221018T181702Z
LAST-MODIFIED:20221018T181703Z
UID:10014727-1837593000-1837593000@lcrbemore.co.uk
SUMMARY:DBS EXPERIENCE PROGRAMME
DESCRIPTION:
URL:https://lcrbemore.co.uk/events/dbs-experience-programme/2028-03-25/
LOCATION:Thrive\, 21-23 Preston Street\, Liverpool\, Liverpool\, L1 6DP\, United Kingdom
ATTACH;FMTTYPE=image/jpeg:https://lcrbemore.co.uk/wp-content/uploads/2022/10/Thrive.jpg
GEO:53.408947259526;-2.9849363644176
X-APPLE-STRUCTURED-LOCATION;VALUE=URI;X-ADDRESS=Thrive 21-23 Preston Street Liverpool Liverpool L1 6DP United Kingdom;X-APPLE-RADIUS=500;X-TITLE=21-23 Preston Street:geo:-2.9849363644176,53.408947259526
END:VEVENT
BEGIN:VEVENT
DTSTART;TZID=UTC:20280325T103000
DTEND;TZID=UTC:20280325T103000
DTSTAMP:20260425T221804
CREATED:20221018T181857Z
LAST-MODIFIED:20221018T181858Z
UID:10016625-1837593000-1837593000@lcrbemore.co.uk
SUMMARY:TRAINING WITH THE LEARNING FOUNDRY
DESCRIPTION:
URL:https://lcrbemore.co.uk/events/training-with-the-learning-foundry/2028-03-25/
LOCATION:Thrive\, 21-23 Preston Street\, Liverpool\, Liverpool\, L1 6DP\, United Kingdom
ATTACH;FMTTYPE=image/jpeg:https://lcrbemore.co.uk/wp-content/uploads/2022/10/Thrive.jpg
GEO:53.408947259526;-2.9849363644176
X-APPLE-STRUCTURED-LOCATION;VALUE=URI;X-ADDRESS=Thrive 21-23 Preston Street Liverpool Liverpool L1 6DP United Kingdom;X-APPLE-RADIUS=500;X-TITLE=21-23 Preston Street:geo:-2.9849363644176,53.408947259526
END:VEVENT
BEGIN:VEVENT
DTSTART;TZID=UTC:20280325T130000
DTEND;TZID=UTC:20280325T130000
DTSTAMP:20260425T221804
CREATED:20221018T181508Z
LAST-MODIFIED:20221018T181509Z
UID:10013016-1837602000-1837602000@lcrbemore.co.uk
SUMMARY:CV DROP IN
DESCRIPTION:
URL:https://lcrbemore.co.uk/events/cv-drop-in/2028-03-25/
LOCATION:Thrive\, 21-23 Preston Street\, Liverpool\, Liverpool\, L1 6DP\, United Kingdom
ATTACH;FMTTYPE=image/jpeg:https://lcrbemore.co.uk/wp-content/uploads/2022/10/Thrive.jpg
GEO:53.408947259526;-2.9849363644176
X-APPLE-STRUCTURED-LOCATION;VALUE=URI;X-ADDRESS=Thrive 21-23 Preston Street Liverpool Liverpool L1 6DP United Kingdom;X-APPLE-RADIUS=500;X-TITLE=21-23 Preston Street:geo:-2.9849363644176,53.408947259526
END:VEVENT
BEGIN:VEVENT
DTSTART;TZID=UTC:20280325T130000
DTEND;TZID=UTC:20280325T130000
DTSTAMP:20260425T221804
CREATED:20221018T182437Z
LAST-MODIFIED:20221018T182438Z
UID:10018463-1837602000-1837602000@lcrbemore.co.uk
SUMMARY:REGENDA HOUSING SUPPORT
DESCRIPTION:
URL:https://lcrbemore.co.uk/events/regenda-housing-support/2028-03-25/
LOCATION:Thrive\, 21-23 Preston Street\, Liverpool\, Liverpool\, L1 6DP\, United Kingdom
ATTACH;FMTTYPE=image/jpeg:https://lcrbemore.co.uk/wp-content/uploads/2022/10/Thrive.jpg
GEO:53.408947259526;-2.9849363644176
X-APPLE-STRUCTURED-LOCATION;VALUE=URI;X-ADDRESS=Thrive 21-23 Preston Street Liverpool Liverpool L1 6DP United Kingdom;X-APPLE-RADIUS=500;X-TITLE=21-23 Preston Street:geo:-2.9849363644176,53.408947259526
END:VEVENT
BEGIN:VEVENT
DTSTART;TZID=UTC:20280326T103000
DTEND;TZID=UTC:20280326T103000
DTSTAMP:20260425T221804
CREATED:20221018T181702Z
LAST-MODIFIED:20221018T181703Z
UID:10014728-1837679400-1837679400@lcrbemore.co.uk
SUMMARY:DBS EXPERIENCE PROGRAMME
DESCRIPTION:
URL:https://lcrbemore.co.uk/events/dbs-experience-programme/2028-03-26/
LOCATION:Thrive\, 21-23 Preston Street\, Liverpool\, Liverpool\, L1 6DP\, United Kingdom
ATTACH;FMTTYPE=image/jpeg:https://lcrbemore.co.uk/wp-content/uploads/2022/10/Thrive.jpg
GEO:53.408947259526;-2.9849363644176
X-APPLE-STRUCTURED-LOCATION;VALUE=URI;X-ADDRESS=Thrive 21-23 Preston Street Liverpool Liverpool L1 6DP United Kingdom;X-APPLE-RADIUS=500;X-TITLE=21-23 Preston Street:geo:-2.9849363644176,53.408947259526
END:VEVENT
BEGIN:VEVENT
DTSTART;TZID=UTC:20280326T103000
DTEND;TZID=UTC:20280326T103000
DTSTAMP:20260425T221804
CREATED:20221018T181857Z
LAST-MODIFIED:20221018T181858Z
UID:10016626-1837679400-1837679400@lcrbemore.co.uk
SUMMARY:TRAINING WITH THE LEARNING FOUNDRY
DESCRIPTION:
URL:https://lcrbemore.co.uk/events/training-with-the-learning-foundry/2028-03-26/
LOCATION:Thrive\, 21-23 Preston Street\, Liverpool\, Liverpool\, L1 6DP\, United Kingdom
ATTACH;FMTTYPE=image/jpeg:https://lcrbemore.co.uk/wp-content/uploads/2022/10/Thrive.jpg
GEO:53.408947259526;-2.9849363644176
X-APPLE-STRUCTURED-LOCATION;VALUE=URI;X-ADDRESS=Thrive 21-23 Preston Street Liverpool Liverpool L1 6DP United Kingdom;X-APPLE-RADIUS=500;X-TITLE=21-23 Preston Street:geo:-2.9849363644176,53.408947259526
END:VEVENT
BEGIN:VEVENT
DTSTART;TZID=UTC:20280326T130000
DTEND;TZID=UTC:20280326T130000
DTSTAMP:20260425T221804
CREATED:20221018T181508Z
LAST-MODIFIED:20221018T181509Z
UID:10013017-1837688400-1837688400@lcrbemore.co.uk
SUMMARY:CV DROP IN
DESCRIPTION:
URL:https://lcrbemore.co.uk/events/cv-drop-in/2028-03-26/
LOCATION:Thrive\, 21-23 Preston Street\, Liverpool\, Liverpool\, L1 6DP\, United Kingdom
ATTACH;FMTTYPE=image/jpeg:https://lcrbemore.co.uk/wp-content/uploads/2022/10/Thrive.jpg
GEO:53.408947259526;-2.9849363644176
X-APPLE-STRUCTURED-LOCATION;VALUE=URI;X-ADDRESS=Thrive 21-23 Preston Street Liverpool Liverpool L1 6DP United Kingdom;X-APPLE-RADIUS=500;X-TITLE=21-23 Preston Street:geo:-2.9849363644176,53.408947259526
END:VEVENT
BEGIN:VEVENT
DTSTART;TZID=UTC:20280326T130000
DTEND;TZID=UTC:20280326T130000
DTSTAMP:20260425T221804
CREATED:20221018T182437Z
LAST-MODIFIED:20221018T182438Z
UID:10018464-1837688400-1837688400@lcrbemore.co.uk
SUMMARY:REGENDA HOUSING SUPPORT
DESCRIPTION:
URL:https://lcrbemore.co.uk/events/regenda-housing-support/2028-03-26/
LOCATION:Thrive\, 21-23 Preston Street\, Liverpool\, Liverpool\, L1 6DP\, United Kingdom
ATTACH;FMTTYPE=image/jpeg:https://lcrbemore.co.uk/wp-content/uploads/2022/10/Thrive.jpg
GEO:53.408947259526;-2.9849363644176
X-APPLE-STRUCTURED-LOCATION;VALUE=URI;X-ADDRESS=Thrive 21-23 Preston Street Liverpool Liverpool L1 6DP United Kingdom;X-APPLE-RADIUS=500;X-TITLE=21-23 Preston Street:geo:-2.9849363644176,53.408947259526
END:VEVENT
BEGIN:VEVENT
DTSTART;TZID=UTC:20280327T103000
DTEND;TZID=UTC:20280327T103000
DTSTAMP:20260425T221804
CREATED:20221018T181702Z
LAST-MODIFIED:20221018T181703Z
UID:10014729-1837765800-1837765800@lcrbemore.co.uk
SUMMARY:DBS EXPERIENCE PROGRAMME
DESCRIPTION:
URL:https://lcrbemore.co.uk/events/dbs-experience-programme/2028-03-27/
LOCATION:Thrive\, 21-23 Preston Street\, Liverpool\, Liverpool\, L1 6DP\, United Kingdom
ATTACH;FMTTYPE=image/jpeg:https://lcrbemore.co.uk/wp-content/uploads/2022/10/Thrive.jpg
GEO:53.408947259526;-2.9849363644176
X-APPLE-STRUCTURED-LOCATION;VALUE=URI;X-ADDRESS=Thrive 21-23 Preston Street Liverpool Liverpool L1 6DP United Kingdom;X-APPLE-RADIUS=500;X-TITLE=21-23 Preston Street:geo:-2.9849363644176,53.408947259526
END:VEVENT
BEGIN:VEVENT
DTSTART;TZID=UTC:20280327T103000
DTEND;TZID=UTC:20280327T103000
DTSTAMP:20260425T221804
CREATED:20221018T181857Z
LAST-MODIFIED:20221018T181858Z
UID:10016627-1837765800-1837765800@lcrbemore.co.uk
SUMMARY:TRAINING WITH THE LEARNING FOUNDRY
DESCRIPTION:
URL:https://lcrbemore.co.uk/events/training-with-the-learning-foundry/2028-03-27/
LOCATION:Thrive\, 21-23 Preston Street\, Liverpool\, Liverpool\, L1 6DP\, United Kingdom
ATTACH;FMTTYPE=image/jpeg:https://lcrbemore.co.uk/wp-content/uploads/2022/10/Thrive.jpg
GEO:53.408947259526;-2.9849363644176
X-APPLE-STRUCTURED-LOCATION;VALUE=URI;X-ADDRESS=Thrive 21-23 Preston Street Liverpool Liverpool L1 6DP United Kingdom;X-APPLE-RADIUS=500;X-TITLE=21-23 Preston Street:geo:-2.9849363644176,53.408947259526
END:VEVENT
BEGIN:VEVENT
DTSTART;TZID=UTC:20280327T130000
DTEND;TZID=UTC:20280327T130000
DTSTAMP:20260425T221804
CREATED:20221018T181508Z
LAST-MODIFIED:20221018T181509Z
UID:10013018-1837774800-1837774800@lcrbemore.co.uk
SUMMARY:CV DROP IN
DESCRIPTION:
URL:https://lcrbemore.co.uk/events/cv-drop-in/2028-03-27/
LOCATION:Thrive\, 21-23 Preston Street\, Liverpool\, Liverpool\, L1 6DP\, United Kingdom
ATTACH;FMTTYPE=image/jpeg:https://lcrbemore.co.uk/wp-content/uploads/2022/10/Thrive.jpg
GEO:53.408947259526;-2.9849363644176
X-APPLE-STRUCTURED-LOCATION;VALUE=URI;X-ADDRESS=Thrive 21-23 Preston Street Liverpool Liverpool L1 6DP United Kingdom;X-APPLE-RADIUS=500;X-TITLE=21-23 Preston Street:geo:-2.9849363644176,53.408947259526
END:VEVENT
BEGIN:VEVENT
DTSTART;TZID=UTC:20280327T130000
DTEND;TZID=UTC:20280327T130000
DTSTAMP:20260425T221804
CREATED:20221018T182437Z
LAST-MODIFIED:20221018T182438Z
UID:10018465-1837774800-1837774800@lcrbemore.co.uk
SUMMARY:REGENDA HOUSING SUPPORT
DESCRIPTION:
URL:https://lcrbemore.co.uk/events/regenda-housing-support/2028-03-27/
LOCATION:Thrive\, 21-23 Preston Street\, Liverpool\, Liverpool\, L1 6DP\, United Kingdom
ATTACH;FMTTYPE=image/jpeg:https://lcrbemore.co.uk/wp-content/uploads/2022/10/Thrive.jpg
GEO:53.408947259526;-2.9849363644176
X-APPLE-STRUCTURED-LOCATION;VALUE=URI;X-ADDRESS=Thrive 21-23 Preston Street Liverpool Liverpool L1 6DP United Kingdom;X-APPLE-RADIUS=500;X-TITLE=21-23 Preston Street:geo:-2.9849363644176,53.408947259526
END:VEVENT
BEGIN:VEVENT
DTSTART;TZID=UTC:20280327T170000
DTEND;TZID=UTC:20280327T183000
DTSTAMP:20260425T221804
CREATED:20240510T105800Z
LAST-MODIFIED:20240510T105802Z
UID:10020421-1837789200-1837794600@lcrbemore.co.uk
SUMMARY:YOUTH VOICE PROJECTS
DESCRIPTION:Wirral Youth Voice Projects enable young people to have a voice and influence providers\, in Wirral and beyond.  \n\n\n\nThese groups work on the annual Wirral Youth Conference and Parliament  \n\n\n\n11-19yrs (up to 25 for SEND/CIC/ND) \n\n\n\nFor more details contact Seline Wakerley – selinewakerley@wirral.gov.uk
URL:https://lcrbemore.co.uk/events/youth-voice-projects/2028-03-27/
LOCATION:Pilgrim Street Arts Centre\, 1 Pilgrim Street\, Birkenhead\, CH41 5EH\, United Kingdom
ATTACH;FMTTYPE=image/jpeg:https://lcrbemore.co.uk/wp-content/uploads/2024/05/YOUTH-VOICE-WIRRAL.jpg
END:VEVENT
BEGIN:VEVENT
DTSTART;TZID=UTC:20280328T103000
DTEND;TZID=UTC:20280328T103000
DTSTAMP:20260425T221804
CREATED:20221018T181702Z
LAST-MODIFIED:20221018T181703Z
UID:10014730-1837852200-1837852200@lcrbemore.co.uk
SUMMARY:DBS EXPERIENCE PROGRAMME
DESCRIPTION:
URL:https://lcrbemore.co.uk/events/dbs-experience-programme/2028-03-28/
LOCATION:Thrive\, 21-23 Preston Street\, Liverpool\, Liverpool\, L1 6DP\, United Kingdom
ATTACH;FMTTYPE=image/jpeg:https://lcrbemore.co.uk/wp-content/uploads/2022/10/Thrive.jpg
GEO:53.408947259526;-2.9849363644176
X-APPLE-STRUCTURED-LOCATION;VALUE=URI;X-ADDRESS=Thrive 21-23 Preston Street Liverpool Liverpool L1 6DP United Kingdom;X-APPLE-RADIUS=500;X-TITLE=21-23 Preston Street:geo:-2.9849363644176,53.408947259526
END:VEVENT
BEGIN:VEVENT
DTSTART;TZID=UTC:20280328T103000
DTEND;TZID=UTC:20280328T103000
DTSTAMP:20260425T221804
CREATED:20221018T181857Z
LAST-MODIFIED:20221018T181858Z
UID:10016628-1837852200-1837852200@lcrbemore.co.uk
SUMMARY:TRAINING WITH THE LEARNING FOUNDRY
DESCRIPTION:
URL:https://lcrbemore.co.uk/events/training-with-the-learning-foundry/2028-03-28/
LOCATION:Thrive\, 21-23 Preston Street\, Liverpool\, Liverpool\, L1 6DP\, United Kingdom
ATTACH;FMTTYPE=image/jpeg:https://lcrbemore.co.uk/wp-content/uploads/2022/10/Thrive.jpg
GEO:53.408947259526;-2.9849363644176
X-APPLE-STRUCTURED-LOCATION;VALUE=URI;X-ADDRESS=Thrive 21-23 Preston Street Liverpool Liverpool L1 6DP United Kingdom;X-APPLE-RADIUS=500;X-TITLE=21-23 Preston Street:geo:-2.9849363644176,53.408947259526
END:VEVENT
BEGIN:VEVENT
DTSTART;TZID=UTC:20280328T103000
DTEND;TZID=UTC:20280328T120000
DTSTAMP:20260425T221804
CREATED:20221017T135527Z
LAST-MODIFIED:20221017T140610Z
UID:10015693-1837852200-1837857600@lcrbemore.co.uk
SUMMARY:CUSTOMER SERVICE TRAINING
DESCRIPTION:
URL:https://lcrbemore.co.uk/events/customer-service-training%ef%bf%bc/2028-03-28/
LOCATION:Liverpool
ATTACH;FMTTYPE=image/png:https://lcrbemore.co.uk/wp-content/uploads/2023/01/Screenshot-2023-01-17-at-11.32.34.png
END:VEVENT
BEGIN:VEVENT
DTSTART;TZID=UTC:20280328T130000
DTEND;TZID=UTC:20280328T130000
DTSTAMP:20260425T221804
CREATED:20221018T181508Z
LAST-MODIFIED:20221018T181509Z
UID:10013019-1837861200-1837861200@lcrbemore.co.uk
SUMMARY:CV DROP IN
DESCRIPTION:
URL:https://lcrbemore.co.uk/events/cv-drop-in/2028-03-28/
LOCATION:Thrive\, 21-23 Preston Street\, Liverpool\, Liverpool\, L1 6DP\, United Kingdom
ATTACH;FMTTYPE=image/jpeg:https://lcrbemore.co.uk/wp-content/uploads/2022/10/Thrive.jpg
GEO:53.408947259526;-2.9849363644176
X-APPLE-STRUCTURED-LOCATION;VALUE=URI;X-ADDRESS=Thrive 21-23 Preston Street Liverpool Liverpool L1 6DP United Kingdom;X-APPLE-RADIUS=500;X-TITLE=21-23 Preston Street:geo:-2.9849363644176,53.408947259526
END:VEVENT
BEGIN:VEVENT
DTSTART;TZID=UTC:20280328T130000
DTEND;TZID=UTC:20280328T130000
DTSTAMP:20260425T221804
CREATED:20221018T182437Z
LAST-MODIFIED:20221018T182438Z
UID:10018466-1837861200-1837861200@lcrbemore.co.uk
SUMMARY:REGENDA HOUSING SUPPORT
DESCRIPTION:
URL:https://lcrbemore.co.uk/events/regenda-housing-support/2028-03-28/
LOCATION:Thrive\, 21-23 Preston Street\, Liverpool\, Liverpool\, L1 6DP\, United Kingdom
ATTACH;FMTTYPE=image/jpeg:https://lcrbemore.co.uk/wp-content/uploads/2022/10/Thrive.jpg
GEO:53.408947259526;-2.9849363644176
X-APPLE-STRUCTURED-LOCATION;VALUE=URI;X-ADDRESS=Thrive 21-23 Preston Street Liverpool Liverpool L1 6DP United Kingdom;X-APPLE-RADIUS=500;X-TITLE=21-23 Preston Street:geo:-2.9849363644176,53.408947259526
END:VEVENT
BEGIN:VEVENT
DTSTART;TZID=UTC:20280328T163000
DTEND;TZID=UTC:20280328T173000
DTSTAMP:20260425T221804
CREATED:20240510T110545Z
LAST-MODIFIED:20240510T110546Z
UID:10020666-1837873800-1837877400@lcrbemore.co.uk
SUMMARY:WIRRAL COOL YOUTH
DESCRIPTION:This is an online group – Environment Group  \n\n\n\nEmail selinewakerley@wirral.gov.uk to join \n\n\n\nWirral Youth Voice Projects enable young people to have a voice and influence providers\, in Wirral and beyond. \n\n\n\nThese groups work on the annual Wirral Youth Conference and Parliament \n\n\n\n11-19yrs (up to 25 for SEND/CIC/ND)
URL:https://lcrbemore.co.uk/events/wirral-cool-youth/2028-03-28/
LOCATION:Liverpool
ATTACH;FMTTYPE=image/jpeg:https://lcrbemore.co.uk/wp-content/uploads/2024/05/YOUTH-VOICE-WIRRAL.jpg
END:VEVENT
END:VCALENDAR