



BEGIN:VCALENDAR
VERSION:2.0
PRODID:-//BeMore - ECPv6.15.1//NONSGML v1.0//EN
CALSCALE:GREGORIAN
METHOD:PUBLISH
X-ORIGINAL-URL:https://lcrbemore.co.uk
X-WR-CALDESC:Events for BeMore
REFRESH-INTERVAL;VALUE=DURATION:PT1H
X-Robots-Tag:noindex
X-PUBLISHED-TTL:PT1H
BEGIN:VTIMEZONE
TZID:UTC
BEGIN:STANDARD
TZOFFSETFROM:+0000
TZOFFSETTO:+0000
TZNAME:UTC
DTSTART:20260101T000000
END:STANDARD
END:VTIMEZONE
BEGIN:VTIMEZONE
TZID:Australia/Melbourne
BEGIN:STANDARD
TZOFFSETFROM:+1100
TZOFFSETTO:+1000
TZNAME:AEST
DTSTART:20260404T160000
END:STANDARD
BEGIN:DAYLIGHT
TZOFFSETFROM:+1000
TZOFFSETTO:+1100
TZNAME:AEDT
DTSTART:20261003T160000
END:DAYLIGHT
END:VTIMEZONE
BEGIN:VEVENT
DTSTART;TZID=UTC:20261120T130000
DTEND;TZID=UTC:20261120T130000
DTSTAMP:20260421T125238
CREATED:20221018T181508Z
LAST-MODIFIED:20221018T181509Z
UID:10012525-1795179600-1795179600@lcrbemore.co.uk
SUMMARY:CV DROP IN
DESCRIPTION:
URL:https://lcrbemore.co.uk/events/cv-drop-in/2026-11-20/
LOCATION:Thrive\, 21-23 Preston Street\, Liverpool\, Liverpool\, L1 6DP\, United Kingdom
ATTACH;FMTTYPE=image/jpeg:https://lcrbemore.co.uk/wp-content/uploads/2022/10/Thrive.jpg
GEO:53.408947259526;-2.9849363644176
X-APPLE-STRUCTURED-LOCATION;VALUE=URI;X-ADDRESS=Thrive 21-23 Preston Street Liverpool Liverpool L1 6DP United Kingdom;X-APPLE-RADIUS=500;X-TITLE=21-23 Preston Street:geo:-2.9849363644176,53.408947259526
END:VEVENT
BEGIN:VEVENT
DTSTART;TZID=UTC:20261120T130000
DTEND;TZID=UTC:20261120T130000
DTSTAMP:20260421T125238
CREATED:20221018T182437Z
LAST-MODIFIED:20221018T182438Z
UID:10017972-1795179600-1795179600@lcrbemore.co.uk
SUMMARY:REGENDA HOUSING SUPPORT
DESCRIPTION:
URL:https://lcrbemore.co.uk/events/regenda-housing-support/2026-11-20/
LOCATION:Thrive\, 21-23 Preston Street\, Liverpool\, Liverpool\, L1 6DP\, United Kingdom
ATTACH;FMTTYPE=image/jpeg:https://lcrbemore.co.uk/wp-content/uploads/2022/10/Thrive.jpg
GEO:53.408947259526;-2.9849363644176
X-APPLE-STRUCTURED-LOCATION;VALUE=URI;X-ADDRESS=Thrive 21-23 Preston Street Liverpool Liverpool L1 6DP United Kingdom;X-APPLE-RADIUS=500;X-TITLE=21-23 Preston Street:geo:-2.9849363644176,53.408947259526
END:VEVENT
BEGIN:VEVENT
DTSTART;TZID=UTC:20261121T100000
DTEND;TZID=UTC:20261121T120000
DTSTAMP:20260421T125238
CREATED:20240510T110847Z
LAST-MODIFIED:20240510T110848Z
UID:10020105-1795255200-1795262400@lcrbemore.co.uk
SUMMARY:JUNIOR ARTS SMART
DESCRIPTION:For young people who are children in Care aged between 8-14 years  \n\n\n\nWirral Youth Voice Projects enable young people to have a voice and influence providers\, in Wirral and beyond. \n\n\n\nThese groups work on the annual Wirral Youth Conference and Parliament \n\n\n\nFor more details contact Seline Wakerley – selinewakerley@wirral.gov.uk
URL:https://lcrbemore.co.uk/events/junior-arts-smart/2026-11-21/
LOCATION:Pilgrim Street Arts Centre\, 1 Pilgrim Street\, Birkenhead\, CH41 5EH\, United Kingdom
ATTACH;FMTTYPE=image/jpeg:https://lcrbemore.co.uk/wp-content/uploads/2024/05/YOUTH-VOICE-WIRRAL.jpg
END:VEVENT
BEGIN:VEVENT
DTSTART;TZID=UTC:20261121T103000
DTEND;TZID=UTC:20261121T103000
DTSTAMP:20260421T125238
CREATED:20221018T181702Z
LAST-MODIFIED:20221018T181703Z
UID:10014237-1795257000-1795257000@lcrbemore.co.uk
SUMMARY:DBS EXPERIENCE PROGRAMME
DESCRIPTION:
URL:https://lcrbemore.co.uk/events/dbs-experience-programme/2026-11-21/
LOCATION:Thrive\, 21-23 Preston Street\, Liverpool\, Liverpool\, L1 6DP\, United Kingdom
ATTACH;FMTTYPE=image/jpeg:https://lcrbemore.co.uk/wp-content/uploads/2022/10/Thrive.jpg
GEO:53.408947259526;-2.9849363644176
X-APPLE-STRUCTURED-LOCATION;VALUE=URI;X-ADDRESS=Thrive 21-23 Preston Street Liverpool Liverpool L1 6DP United Kingdom;X-APPLE-RADIUS=500;X-TITLE=21-23 Preston Street:geo:-2.9849363644176,53.408947259526
END:VEVENT
BEGIN:VEVENT
DTSTART;TZID=UTC:20261121T103000
DTEND;TZID=UTC:20261121T103000
DTSTAMP:20260421T125238
CREATED:20221018T181857Z
LAST-MODIFIED:20221018T181858Z
UID:10016135-1795257000-1795257000@lcrbemore.co.uk
SUMMARY:TRAINING WITH THE LEARNING FOUNDRY
DESCRIPTION:
URL:https://lcrbemore.co.uk/events/training-with-the-learning-foundry/2026-11-21/
LOCATION:Thrive\, 21-23 Preston Street\, Liverpool\, Liverpool\, L1 6DP\, United Kingdom
ATTACH;FMTTYPE=image/jpeg:https://lcrbemore.co.uk/wp-content/uploads/2022/10/Thrive.jpg
GEO:53.408947259526;-2.9849363644176
X-APPLE-STRUCTURED-LOCATION;VALUE=URI;X-ADDRESS=Thrive 21-23 Preston Street Liverpool Liverpool L1 6DP United Kingdom;X-APPLE-RADIUS=500;X-TITLE=21-23 Preston Street:geo:-2.9849363644176,53.408947259526
END:VEVENT
BEGIN:VEVENT
DTSTART;TZID=UTC:20261121T130000
DTEND;TZID=UTC:20261121T130000
DTSTAMP:20260421T125238
CREATED:20221018T181508Z
LAST-MODIFIED:20221018T181509Z
UID:10012526-1795266000-1795266000@lcrbemore.co.uk
SUMMARY:CV DROP IN
DESCRIPTION:
URL:https://lcrbemore.co.uk/events/cv-drop-in/2026-11-21/
LOCATION:Thrive\, 21-23 Preston Street\, Liverpool\, Liverpool\, L1 6DP\, United Kingdom
ATTACH;FMTTYPE=image/jpeg:https://lcrbemore.co.uk/wp-content/uploads/2022/10/Thrive.jpg
GEO:53.408947259526;-2.9849363644176
X-APPLE-STRUCTURED-LOCATION;VALUE=URI;X-ADDRESS=Thrive 21-23 Preston Street Liverpool Liverpool L1 6DP United Kingdom;X-APPLE-RADIUS=500;X-TITLE=21-23 Preston Street:geo:-2.9849363644176,53.408947259526
END:VEVENT
BEGIN:VEVENT
DTSTART;TZID=UTC:20261121T130000
DTEND;TZID=UTC:20261121T130000
DTSTAMP:20260421T125238
CREATED:20221018T182437Z
LAST-MODIFIED:20221018T182438Z
UID:10017973-1795266000-1795266000@lcrbemore.co.uk
SUMMARY:REGENDA HOUSING SUPPORT
DESCRIPTION:
URL:https://lcrbemore.co.uk/events/regenda-housing-support/2026-11-21/
LOCATION:Thrive\, 21-23 Preston Street\, Liverpool\, Liverpool\, L1 6DP\, United Kingdom
ATTACH;FMTTYPE=image/jpeg:https://lcrbemore.co.uk/wp-content/uploads/2022/10/Thrive.jpg
GEO:53.408947259526;-2.9849363644176
X-APPLE-STRUCTURED-LOCATION;VALUE=URI;X-ADDRESS=Thrive 21-23 Preston Street Liverpool Liverpool L1 6DP United Kingdom;X-APPLE-RADIUS=500;X-TITLE=21-23 Preston Street:geo:-2.9849363644176,53.408947259526
END:VEVENT
BEGIN:VEVENT
DTSTART;TZID=UTC:20261122T103000
DTEND;TZID=UTC:20261122T103000
DTSTAMP:20260421T125238
CREATED:20221018T181702Z
LAST-MODIFIED:20221018T181703Z
UID:10014238-1795343400-1795343400@lcrbemore.co.uk
SUMMARY:DBS EXPERIENCE PROGRAMME
DESCRIPTION:
URL:https://lcrbemore.co.uk/events/dbs-experience-programme/2026-11-22/
LOCATION:Thrive\, 21-23 Preston Street\, Liverpool\, Liverpool\, L1 6DP\, United Kingdom
ATTACH;FMTTYPE=image/jpeg:https://lcrbemore.co.uk/wp-content/uploads/2022/10/Thrive.jpg
GEO:53.408947259526;-2.9849363644176
X-APPLE-STRUCTURED-LOCATION;VALUE=URI;X-ADDRESS=Thrive 21-23 Preston Street Liverpool Liverpool L1 6DP United Kingdom;X-APPLE-RADIUS=500;X-TITLE=21-23 Preston Street:geo:-2.9849363644176,53.408947259526
END:VEVENT
BEGIN:VEVENT
DTSTART;TZID=UTC:20261122T103000
DTEND;TZID=UTC:20261122T103000
DTSTAMP:20260421T125238
CREATED:20221018T181857Z
LAST-MODIFIED:20221018T181858Z
UID:10016136-1795343400-1795343400@lcrbemore.co.uk
SUMMARY:TRAINING WITH THE LEARNING FOUNDRY
DESCRIPTION:
URL:https://lcrbemore.co.uk/events/training-with-the-learning-foundry/2026-11-22/
LOCATION:Thrive\, 21-23 Preston Street\, Liverpool\, Liverpool\, L1 6DP\, United Kingdom
ATTACH;FMTTYPE=image/jpeg:https://lcrbemore.co.uk/wp-content/uploads/2022/10/Thrive.jpg
GEO:53.408947259526;-2.9849363644176
X-APPLE-STRUCTURED-LOCATION;VALUE=URI;X-ADDRESS=Thrive 21-23 Preston Street Liverpool Liverpool L1 6DP United Kingdom;X-APPLE-RADIUS=500;X-TITLE=21-23 Preston Street:geo:-2.9849363644176,53.408947259526
END:VEVENT
BEGIN:VEVENT
DTSTART;TZID=UTC:20261122T130000
DTEND;TZID=UTC:20261122T130000
DTSTAMP:20260421T125238
CREATED:20221018T181508Z
LAST-MODIFIED:20221018T181509Z
UID:10012527-1795352400-1795352400@lcrbemore.co.uk
SUMMARY:CV DROP IN
DESCRIPTION:
URL:https://lcrbemore.co.uk/events/cv-drop-in/2026-11-22/
LOCATION:Thrive\, 21-23 Preston Street\, Liverpool\, Liverpool\, L1 6DP\, United Kingdom
ATTACH;FMTTYPE=image/jpeg:https://lcrbemore.co.uk/wp-content/uploads/2022/10/Thrive.jpg
GEO:53.408947259526;-2.9849363644176
X-APPLE-STRUCTURED-LOCATION;VALUE=URI;X-ADDRESS=Thrive 21-23 Preston Street Liverpool Liverpool L1 6DP United Kingdom;X-APPLE-RADIUS=500;X-TITLE=21-23 Preston Street:geo:-2.9849363644176,53.408947259526
END:VEVENT
BEGIN:VEVENT
DTSTART;TZID=UTC:20261122T130000
DTEND;TZID=UTC:20261122T130000
DTSTAMP:20260421T125238
CREATED:20221018T182437Z
LAST-MODIFIED:20221018T182438Z
UID:10017974-1795352400-1795352400@lcrbemore.co.uk
SUMMARY:REGENDA HOUSING SUPPORT
DESCRIPTION:
URL:https://lcrbemore.co.uk/events/regenda-housing-support/2026-11-22/
LOCATION:Thrive\, 21-23 Preston Street\, Liverpool\, Liverpool\, L1 6DP\, United Kingdom
ATTACH;FMTTYPE=image/jpeg:https://lcrbemore.co.uk/wp-content/uploads/2022/10/Thrive.jpg
GEO:53.408947259526;-2.9849363644176
X-APPLE-STRUCTURED-LOCATION;VALUE=URI;X-ADDRESS=Thrive 21-23 Preston Street Liverpool Liverpool L1 6DP United Kingdom;X-APPLE-RADIUS=500;X-TITLE=21-23 Preston Street:geo:-2.9849363644176,53.408947259526
END:VEVENT
BEGIN:VEVENT
DTSTART;TZID=UTC:20261123T103000
DTEND;TZID=UTC:20261123T103000
DTSTAMP:20260421T125238
CREATED:20221018T181702Z
LAST-MODIFIED:20221018T181703Z
UID:10014239-1795429800-1795429800@lcrbemore.co.uk
SUMMARY:DBS EXPERIENCE PROGRAMME
DESCRIPTION:
URL:https://lcrbemore.co.uk/events/dbs-experience-programme/2026-11-23/
LOCATION:Thrive\, 21-23 Preston Street\, Liverpool\, Liverpool\, L1 6DP\, United Kingdom
ATTACH;FMTTYPE=image/jpeg:https://lcrbemore.co.uk/wp-content/uploads/2022/10/Thrive.jpg
GEO:53.408947259526;-2.9849363644176
X-APPLE-STRUCTURED-LOCATION;VALUE=URI;X-ADDRESS=Thrive 21-23 Preston Street Liverpool Liverpool L1 6DP United Kingdom;X-APPLE-RADIUS=500;X-TITLE=21-23 Preston Street:geo:-2.9849363644176,53.408947259526
END:VEVENT
BEGIN:VEVENT
DTSTART;TZID=UTC:20261123T103000
DTEND;TZID=UTC:20261123T103000
DTSTAMP:20260421T125238
CREATED:20221018T181857Z
LAST-MODIFIED:20221018T181858Z
UID:10016137-1795429800-1795429800@lcrbemore.co.uk
SUMMARY:TRAINING WITH THE LEARNING FOUNDRY
DESCRIPTION:
URL:https://lcrbemore.co.uk/events/training-with-the-learning-foundry/2026-11-23/
LOCATION:Thrive\, 21-23 Preston Street\, Liverpool\, Liverpool\, L1 6DP\, United Kingdom
ATTACH;FMTTYPE=image/jpeg:https://lcrbemore.co.uk/wp-content/uploads/2022/10/Thrive.jpg
GEO:53.408947259526;-2.9849363644176
X-APPLE-STRUCTURED-LOCATION;VALUE=URI;X-ADDRESS=Thrive 21-23 Preston Street Liverpool Liverpool L1 6DP United Kingdom;X-APPLE-RADIUS=500;X-TITLE=21-23 Preston Street:geo:-2.9849363644176,53.408947259526
END:VEVENT
BEGIN:VEVENT
DTSTART;TZID=UTC:20261123T130000
DTEND;TZID=UTC:20261123T130000
DTSTAMP:20260421T125238
CREATED:20221018T181508Z
LAST-MODIFIED:20221018T181509Z
UID:10012528-1795438800-1795438800@lcrbemore.co.uk
SUMMARY:CV DROP IN
DESCRIPTION:
URL:https://lcrbemore.co.uk/events/cv-drop-in/2026-11-23/
LOCATION:Thrive\, 21-23 Preston Street\, Liverpool\, Liverpool\, L1 6DP\, United Kingdom
ATTACH;FMTTYPE=image/jpeg:https://lcrbemore.co.uk/wp-content/uploads/2022/10/Thrive.jpg
GEO:53.408947259526;-2.9849363644176
X-APPLE-STRUCTURED-LOCATION;VALUE=URI;X-ADDRESS=Thrive 21-23 Preston Street Liverpool Liverpool L1 6DP United Kingdom;X-APPLE-RADIUS=500;X-TITLE=21-23 Preston Street:geo:-2.9849363644176,53.408947259526
END:VEVENT
BEGIN:VEVENT
DTSTART;TZID=UTC:20261123T130000
DTEND;TZID=UTC:20261123T130000
DTSTAMP:20260421T125238
CREATED:20221018T182437Z
LAST-MODIFIED:20221018T182438Z
UID:10017975-1795438800-1795438800@lcrbemore.co.uk
SUMMARY:REGENDA HOUSING SUPPORT
DESCRIPTION:
URL:https://lcrbemore.co.uk/events/regenda-housing-support/2026-11-23/
LOCATION:Thrive\, 21-23 Preston Street\, Liverpool\, Liverpool\, L1 6DP\, United Kingdom
ATTACH;FMTTYPE=image/jpeg:https://lcrbemore.co.uk/wp-content/uploads/2022/10/Thrive.jpg
GEO:53.408947259526;-2.9849363644176
X-APPLE-STRUCTURED-LOCATION;VALUE=URI;X-ADDRESS=Thrive 21-23 Preston Street Liverpool Liverpool L1 6DP United Kingdom;X-APPLE-RADIUS=500;X-TITLE=21-23 Preston Street:geo:-2.9849363644176,53.408947259526
END:VEVENT
BEGIN:VEVENT
DTSTART;TZID=UTC:20261123T170000
DTEND;TZID=UTC:20261123T183000
DTSTAMP:20260421T125238
CREATED:20240510T105800Z
LAST-MODIFIED:20240510T105802Z
UID:10020351-1795453200-1795458600@lcrbemore.co.uk
SUMMARY:YOUTH VOICE PROJECTS
DESCRIPTION:Wirral Youth Voice Projects enable young people to have a voice and influence providers\, in Wirral and beyond.  \n\n\n\nThese groups work on the annual Wirral Youth Conference and Parliament  \n\n\n\n11-19yrs (up to 25 for SEND/CIC/ND) \n\n\n\nFor more details contact Seline Wakerley – selinewakerley@wirral.gov.uk
URL:https://lcrbemore.co.uk/events/youth-voice-projects/2026-11-23/
LOCATION:Pilgrim Street Arts Centre\, 1 Pilgrim Street\, Birkenhead\, CH41 5EH\, United Kingdom
ATTACH;FMTTYPE=image/jpeg:https://lcrbemore.co.uk/wp-content/uploads/2024/05/YOUTH-VOICE-WIRRAL.jpg
END:VEVENT
BEGIN:VEVENT
DTSTART;TZID=UTC:20261124T103000
DTEND;TZID=UTC:20261124T103000
DTSTAMP:20260421T125238
CREATED:20221018T181702Z
LAST-MODIFIED:20221018T181703Z
UID:10014240-1795516200-1795516200@lcrbemore.co.uk
SUMMARY:DBS EXPERIENCE PROGRAMME
DESCRIPTION:
URL:https://lcrbemore.co.uk/events/dbs-experience-programme/2026-11-24/
LOCATION:Thrive\, 21-23 Preston Street\, Liverpool\, Liverpool\, L1 6DP\, United Kingdom
ATTACH;FMTTYPE=image/jpeg:https://lcrbemore.co.uk/wp-content/uploads/2022/10/Thrive.jpg
GEO:53.408947259526;-2.9849363644176
X-APPLE-STRUCTURED-LOCATION;VALUE=URI;X-ADDRESS=Thrive 21-23 Preston Street Liverpool Liverpool L1 6DP United Kingdom;X-APPLE-RADIUS=500;X-TITLE=21-23 Preston Street:geo:-2.9849363644176,53.408947259526
END:VEVENT
BEGIN:VEVENT
DTSTART;TZID=UTC:20261124T103000
DTEND;TZID=UTC:20261124T103000
DTSTAMP:20260421T125238
CREATED:20221018T181857Z
LAST-MODIFIED:20221018T181858Z
UID:10016138-1795516200-1795516200@lcrbemore.co.uk
SUMMARY:TRAINING WITH THE LEARNING FOUNDRY
DESCRIPTION:
URL:https://lcrbemore.co.uk/events/training-with-the-learning-foundry/2026-11-24/
LOCATION:Thrive\, 21-23 Preston Street\, Liverpool\, Liverpool\, L1 6DP\, United Kingdom
ATTACH;FMTTYPE=image/jpeg:https://lcrbemore.co.uk/wp-content/uploads/2022/10/Thrive.jpg
GEO:53.408947259526;-2.9849363644176
X-APPLE-STRUCTURED-LOCATION;VALUE=URI;X-ADDRESS=Thrive 21-23 Preston Street Liverpool Liverpool L1 6DP United Kingdom;X-APPLE-RADIUS=500;X-TITLE=21-23 Preston Street:geo:-2.9849363644176,53.408947259526
END:VEVENT
BEGIN:VEVENT
DTSTART;TZID=UTC:20261124T103000
DTEND;TZID=UTC:20261124T120000
DTSTAMP:20260421T125238
CREATED:20221017T135527Z
LAST-MODIFIED:20221017T140610Z
UID:10015677-1795516200-1795521600@lcrbemore.co.uk
SUMMARY:CUSTOMER SERVICE TRAINING
DESCRIPTION:
URL:https://lcrbemore.co.uk/events/customer-service-training%ef%bf%bc/2026-11-24/
ATTACH;FMTTYPE=image/png:https://lcrbemore.co.uk/wp-content/uploads/2023/01/Screenshot-2023-01-17-at-11.32.34.png
END:VEVENT
BEGIN:VEVENT
DTSTART;TZID=UTC:20261124T130000
DTEND;TZID=UTC:20261124T130000
DTSTAMP:20260421T125238
CREATED:20221018T181508Z
LAST-MODIFIED:20221018T181509Z
UID:10012529-1795525200-1795525200@lcrbemore.co.uk
SUMMARY:CV DROP IN
DESCRIPTION:
URL:https://lcrbemore.co.uk/events/cv-drop-in/2026-11-24/
LOCATION:Thrive\, 21-23 Preston Street\, Liverpool\, Liverpool\, L1 6DP\, United Kingdom
ATTACH;FMTTYPE=image/jpeg:https://lcrbemore.co.uk/wp-content/uploads/2022/10/Thrive.jpg
GEO:53.408947259526;-2.9849363644176
X-APPLE-STRUCTURED-LOCATION;VALUE=URI;X-ADDRESS=Thrive 21-23 Preston Street Liverpool Liverpool L1 6DP United Kingdom;X-APPLE-RADIUS=500;X-TITLE=21-23 Preston Street:geo:-2.9849363644176,53.408947259526
END:VEVENT
BEGIN:VEVENT
DTSTART;TZID=UTC:20261124T130000
DTEND;TZID=UTC:20261124T130000
DTSTAMP:20260421T125238
CREATED:20221018T182437Z
LAST-MODIFIED:20221018T182438Z
UID:10017976-1795525200-1795525200@lcrbemore.co.uk
SUMMARY:REGENDA HOUSING SUPPORT
DESCRIPTION:
URL:https://lcrbemore.co.uk/events/regenda-housing-support/2026-11-24/
LOCATION:Thrive\, 21-23 Preston Street\, Liverpool\, Liverpool\, L1 6DP\, United Kingdom
ATTACH;FMTTYPE=image/jpeg:https://lcrbemore.co.uk/wp-content/uploads/2022/10/Thrive.jpg
GEO:53.408947259526;-2.9849363644176
X-APPLE-STRUCTURED-LOCATION;VALUE=URI;X-ADDRESS=Thrive 21-23 Preston Street Liverpool Liverpool L1 6DP United Kingdom;X-APPLE-RADIUS=500;X-TITLE=21-23 Preston Street:geo:-2.9849363644176,53.408947259526
END:VEVENT
BEGIN:VEVENT
DTSTART;TZID=UTC:20261124T163000
DTEND;TZID=UTC:20261124T173000
DTSTAMP:20260421T125238
CREATED:20240510T110545Z
LAST-MODIFIED:20240510T110546Z
UID:10020596-1795537800-1795541400@lcrbemore.co.uk
SUMMARY:WIRRAL COOL YOUTH
DESCRIPTION:This is an online group – Environment Group  \n\n\n\nEmail selinewakerley@wirral.gov.uk to join \n\n\n\nWirral Youth Voice Projects enable young people to have a voice and influence providers\, in Wirral and beyond. \n\n\n\nThese groups work on the annual Wirral Youth Conference and Parliament \n\n\n\n11-19yrs (up to 25 for SEND/CIC/ND)
URL:https://lcrbemore.co.uk/events/wirral-cool-youth/2026-11-24/
ATTACH;FMTTYPE=image/jpeg:https://lcrbemore.co.uk/wp-content/uploads/2024/05/YOUTH-VOICE-WIRRAL.jpg
END:VEVENT
BEGIN:VEVENT
DTSTART;TZID=UTC:20261124T180000
DTEND;TZID=UTC:20261124T193000
DTSTAMP:20260421T125238
CREATED:20240510T110052Z
LAST-MODIFIED:20240510T110053Z
UID:10020832-1795543200-1795548600@lcrbemore.co.uk
SUMMARY:SEND YOUTH VOICE GROUP
DESCRIPTION:Wirral Youth Voice Projects enable young people to have a voice and influence providers\, in Wirral and beyond. \n\n\n\nThese groups work on the annual Wirral Youth Conference and Parliament \n\n\n\n11-19yrs (up to 25 for SEND/CIC/ND) \n\n\n\nFor more details contact Seline Wakerley – selinewakerley@wirral.gov.uk
URL:https://lcrbemore.co.uk/events/send-youth-voice-group/2026-11-24/
LOCATION:Pilgrim Street Arts Centre\, 1 Pilgrim Street\, Birkenhead\, CH41 5EH\, United Kingdom
ATTACH;FMTTYPE=image/jpeg:https://lcrbemore.co.uk/wp-content/uploads/2024/05/YOUTH-VOICE-WIRRAL.jpg
END:VEVENT
BEGIN:VEVENT
DTSTART;TZID=Australia/Melbourne:20261125T080000
DTEND;TZID=Australia/Melbourne:20261125T170000
DTSTAMP:20260421T125238
CREATED:20250512T073530Z
LAST-MODIFIED:20250512T073531Z
UID:10011419-1795593600-1795626000@lcrbemore.co.uk
SUMMARY:Everton in the Community - SCORE programme
DESCRIPTION:Are you aged 18 – 30 and looking for support to find a job in the Health and Social Care sector? \n\n\n\nEverton in the Community can help you! \n\n\n\nEitC can support you with applying for a job\, updating your CV and matching your skills to a role that would best suit you.
URL:https://lcrbemore.co.uk/events/everton-in-the-community-score-programme/2026-11-25/
LOCATION:The People’s Hub\, Spellow Lane\, Liverpool\, L4 4DF
ATTACH;FMTTYPE=image/png:https://lcrbemore.co.uk/wp-content/uploads/2022/08/Everton-in-The-Community-2.png
END:VEVENT
BEGIN:VEVENT
DTSTART;TZID=UTC:20261125T103000
DTEND;TZID=UTC:20261125T103000
DTSTAMP:20260421T125238
CREATED:20221018T181702Z
LAST-MODIFIED:20221018T181703Z
UID:10014241-1795602600-1795602600@lcrbemore.co.uk
SUMMARY:DBS EXPERIENCE PROGRAMME
DESCRIPTION:
URL:https://lcrbemore.co.uk/events/dbs-experience-programme/2026-11-25/
LOCATION:Thrive\, 21-23 Preston Street\, Liverpool\, Liverpool\, L1 6DP\, United Kingdom
ATTACH;FMTTYPE=image/jpeg:https://lcrbemore.co.uk/wp-content/uploads/2022/10/Thrive.jpg
GEO:53.408947259526;-2.9849363644176
X-APPLE-STRUCTURED-LOCATION;VALUE=URI;X-ADDRESS=Thrive 21-23 Preston Street Liverpool Liverpool L1 6DP United Kingdom;X-APPLE-RADIUS=500;X-TITLE=21-23 Preston Street:geo:-2.9849363644176,53.408947259526
END:VEVENT
BEGIN:VEVENT
DTSTART;TZID=UTC:20261125T103000
DTEND;TZID=UTC:20261125T103000
DTSTAMP:20260421T125238
CREATED:20221018T181857Z
LAST-MODIFIED:20221018T181858Z
UID:10016139-1795602600-1795602600@lcrbemore.co.uk
SUMMARY:TRAINING WITH THE LEARNING FOUNDRY
DESCRIPTION:
URL:https://lcrbemore.co.uk/events/training-with-the-learning-foundry/2026-11-25/
LOCATION:Thrive\, 21-23 Preston Street\, Liverpool\, Liverpool\, L1 6DP\, United Kingdom
ATTACH;FMTTYPE=image/jpeg:https://lcrbemore.co.uk/wp-content/uploads/2022/10/Thrive.jpg
GEO:53.408947259526;-2.9849363644176
X-APPLE-STRUCTURED-LOCATION;VALUE=URI;X-ADDRESS=Thrive 21-23 Preston Street Liverpool Liverpool L1 6DP United Kingdom;X-APPLE-RADIUS=500;X-TITLE=21-23 Preston Street:geo:-2.9849363644176,53.408947259526
END:VEVENT
BEGIN:VEVENT
DTSTART;TZID=UTC:20261125T130000
DTEND;TZID=UTC:20261125T130000
DTSTAMP:20260421T125238
CREATED:20221018T181508Z
LAST-MODIFIED:20221018T181509Z
UID:10012530-1795611600-1795611600@lcrbemore.co.uk
SUMMARY:CV DROP IN
DESCRIPTION:
URL:https://lcrbemore.co.uk/events/cv-drop-in/2026-11-25/
LOCATION:Thrive\, 21-23 Preston Street\, Liverpool\, Liverpool\, L1 6DP\, United Kingdom
ATTACH;FMTTYPE=image/jpeg:https://lcrbemore.co.uk/wp-content/uploads/2022/10/Thrive.jpg
GEO:53.408947259526;-2.9849363644176
X-APPLE-STRUCTURED-LOCATION;VALUE=URI;X-ADDRESS=Thrive 21-23 Preston Street Liverpool Liverpool L1 6DP United Kingdom;X-APPLE-RADIUS=500;X-TITLE=21-23 Preston Street:geo:-2.9849363644176,53.408947259526
END:VEVENT
BEGIN:VEVENT
DTSTART;TZID=UTC:20261125T130000
DTEND;TZID=UTC:20261125T130000
DTSTAMP:20260421T125238
CREATED:20221018T182437Z
LAST-MODIFIED:20221018T182438Z
UID:10017977-1795611600-1795611600@lcrbemore.co.uk
SUMMARY:REGENDA HOUSING SUPPORT
DESCRIPTION:
URL:https://lcrbemore.co.uk/events/regenda-housing-support/2026-11-25/
LOCATION:Thrive\, 21-23 Preston Street\, Liverpool\, Liverpool\, L1 6DP\, United Kingdom
ATTACH;FMTTYPE=image/jpeg:https://lcrbemore.co.uk/wp-content/uploads/2022/10/Thrive.jpg
GEO:53.408947259526;-2.9849363644176
X-APPLE-STRUCTURED-LOCATION;VALUE=URI;X-ADDRESS=Thrive 21-23 Preston Street Liverpool Liverpool L1 6DP United Kingdom;X-APPLE-RADIUS=500;X-TITLE=21-23 Preston Street:geo:-2.9849363644176,53.408947259526
END:VEVENT
BEGIN:VEVENT
DTSTART;TZID=UTC:20261125T130000
DTEND;TZID=UTC:20261125T170000
DTSTAMP:20260421T125238
CREATED:20221018T172632Z
LAST-MODIFIED:20221018T180221Z
UID:10011649-1795611600-1795626000@lcrbemore.co.uk
SUMMARY:DROP IN SESSIONS
DESCRIPTION:DWP Work Coach available to support with Universal Credit claims.
URL:https://lcrbemore.co.uk/events/drop-in-sessions/2026-11-25/
LOCATION:Merseyside Youth Association\, 65-67 Hanover Street\, Liverpool\, Liverpool\, L1 3DY\, United Kingdom
ATTACH;FMTTYPE=image/png:https://lcrbemore.co.uk/wp-content/uploads/2022/10/stock-event.png
GEO:53.404306319392;-2.9825169067472
X-APPLE-STRUCTURED-LOCATION;VALUE=URI;X-ADDRESS=Merseyside Youth Association 65-67 Hanover Street Liverpool Liverpool L1 3DY United Kingdom;X-APPLE-RADIUS=500;X-TITLE=65-67 Hanover Street:geo:-2.9825169067472,53.404306319392
END:VEVENT
BEGIN:VEVENT
DTSTART;TZID=UTC:20261125T130000
DTEND;TZID=UTC:20261125T170000
DTSTAMP:20260421T125238
CREATED:20221018T175015Z
LAST-MODIFIED:20231218T144607Z
UID:10019502-1795611600-1795626000@lcrbemore.co.uk
SUMMARY:WEDNESDAY AFTERNOONS WITH THE HUB
DESCRIPTION:Personal skills development programme for a neurodiverse cohort of 15 young people. Activities include – CV building\, employer sessions\, woodland walk and much more!
URL:https://lcrbemore.co.uk/events/wednesday-afternoons-with-the-hub-2/2026-11-25/
LOCATION:Merseyside Youth Association\, 65-67 Hanover Street\, Liverpool\, Liverpool\, L1 3DY\, United Kingdom
ATTACH;FMTTYPE=image/jpeg:https://lcrbemore.co.uk/wp-content/uploads/2022/10/Merseyside-Youth-Association.jpg
GEO:53.404306319392;-2.9825169067472
X-APPLE-STRUCTURED-LOCATION;VALUE=URI;X-ADDRESS=Merseyside Youth Association 65-67 Hanover Street Liverpool Liverpool L1 3DY United Kingdom;X-APPLE-RADIUS=500;X-TITLE=65-67 Hanover Street:geo:-2.9825169067472,53.404306319392
END:VEVENT
END:VCALENDAR